BEGIN:VCALENDAR
VERSION:2.0
PRODID:-//Klimafestivalen 112 - ECPv6.15.20//NONSGML v1.0//EN
CALSCALE:GREGORIAN
METHOD:PUBLISH
X-WR-CALNAME:Klimafestivalen 112
X-ORIGINAL-URL:https://www.klimafestivalen112.no
X-WR-CALDESC:Arrangement for Klimafestivalen 112
REFRESH-INTERVAL;VALUE=DURATION:PT1H
X-Robots-Tag:noindex
X-PUBLISHED-TTL:PT1H
BEGIN:VTIMEZONE
TZID:Europe/Oslo
BEGIN:DAYLIGHT
TZOFFSETFROM:+0100
TZOFFSETTO:+0200
TZNAME:CEST
DTSTART:20190331T010000
END:DAYLIGHT
BEGIN:STANDARD
TZOFFSETFROM:+0200
TZOFFSETTO:+0100
TZNAME:CET
DTSTART:20191027T010000
END:STANDARD
BEGIN:DAYLIGHT
TZOFFSETFROM:+0100
TZOFFSETTO:+0200
TZNAME:CEST
DTSTART:20200329T010000
END:DAYLIGHT
BEGIN:STANDARD
TZOFFSETFROM:+0200
TZOFFSETTO:+0100
TZNAME:CET
DTSTART:20201025T010000
END:STANDARD
BEGIN:DAYLIGHT
TZOFFSETFROM:+0100
TZOFFSETTO:+0200
TZNAME:CEST
DTSTART:20210328T010000
END:DAYLIGHT
BEGIN:STANDARD
TZOFFSETFROM:+0200
TZOFFSETTO:+0100
TZNAME:CET
DTSTART:20211031T010000
END:STANDARD
END:VTIMEZONE
BEGIN:VEVENT
DTSTART;TZID=Europe/Oslo:20200116T180000
DTEND;TZID=Europe/Oslo:20200116T200000
DTSTAMP:20260421T114056
CREATED:20200114T203730Z
LAST-MODIFIED:20200114T203730Z
UID:10005560-1579197600-1579204800@www.klimafestivalen112.no
SUMMARY:Temamøte: Miljøvennlig reise
DESCRIPTION:For å skape et grønt samfunn må vi kunne bevege oss rundt uten at det går ut over klima og miljø.  \n \nVi må derfor satse på kollektiv transport\, elbiler\, grønn skipsfart og grønne fly. At byer er sykkel og fotgjengervennlige er også viktig. I dette temamøte skal vi utforske hvordan vi kan tilrettelegge samfunnet vårt så vi kan ta i bruk nye grønne løsninger som funker. \nVibeke Nenseth\, nestleder i Miljøpartiet De Grønne Vestre Aker\, kommer for å fortelle oss om MDGs politikk for å sikre grønn mobilitet i Norge. \nVi skal være på UngOrg sine lokaler fra 18.00 til 20.00 som vanlig. Det blir vegetarmat\, spennende samtaler og masse kos! \nTa kontakt med Sigurd på tlf 416 82 041 hvis du lurer på noe!
URL:https://www.klimafestivalen112.no/arrangement/temamote-miljovennlig-reise/
LOCATION:UngOrg
END:VEVENT
END:VCALENDAR