BEGIN:VCALENDAR
VERSION:2.0
PRODID:-//Klimafestivalen 112 - ECPv6.15.20//NONSGML v1.0//EN
CALSCALE:GREGORIAN
METHOD:PUBLISH
X-ORIGINAL-URL:https://www.klimafestivalen112.no
X-WR-CALDESC:Arrangement for Klimafestivalen 112
REFRESH-INTERVAL;VALUE=DURATION:PT1H
X-Robots-Tag:noindex
X-PUBLISHED-TTL:PT1H
BEGIN:VTIMEZONE
TZID:Europe/Oslo
BEGIN:DAYLIGHT
TZOFFSETFROM:+0100
TZOFFSETTO:+0200
TZNAME:CEST
DTSTART:20190331T010000
END:DAYLIGHT
BEGIN:STANDARD
TZOFFSETFROM:+0200
TZOFFSETTO:+0100
TZNAME:CET
DTSTART:20191027T010000
END:STANDARD
BEGIN:DAYLIGHT
TZOFFSETFROM:+0100
TZOFFSETTO:+0200
TZNAME:CEST
DTSTART:20200329T010000
END:DAYLIGHT
BEGIN:STANDARD
TZOFFSETFROM:+0200
TZOFFSETTO:+0100
TZNAME:CET
DTSTART:20201025T010000
END:STANDARD
BEGIN:DAYLIGHT
TZOFFSETFROM:+0100
TZOFFSETTO:+0200
TZNAME:CEST
DTSTART:20210328T010000
END:DAYLIGHT
BEGIN:STANDARD
TZOFFSETFROM:+0200
TZOFFSETTO:+0100
TZNAME:CET
DTSTART:20211031T010000
END:STANDARD
END:VTIMEZONE
BEGIN:VEVENT
DTSTART;TZID=Europe/Oslo:20200116T183000
DTEND;TZID=Europe/Oslo:20200116T193000
DTSTAMP:20260421T122111
CREATED:20200116T141223Z
LAST-MODIFIED:20200116T141759Z
UID:10006610-1579199400-1579203000@www.klimafestivalen112.no
SUMMARY:Filmpremiere – Tour de Klima
DESCRIPTION:Sammen med Greener Events invitere vi til åpent hus og premiere på vår dokumentarfilm laget av ITarget fra årets Tour de Klima! \nOm du ønsker å bli en bedre syklist er dette en gylden mulighet til å få tips av Jonas Orset og hans medsyklister som i desember la ut på 600 km fra Oslo til Stockholm for klimaet! Det blir fortalt noen røverhistorier og mulighet for å spille spørsmål og mingle. \nDet blir serveres kaffe\, te og sunn snacks. Arrangementer er i 5 etasje på SoCentral og er gratis. \nVi vil også presentere vårt store prosjekt for 2020 og utfordrer deg til å bli med! \nStikk innom!
URL:https://www.klimafestivalen112.no/arrangement/filmpremiere-tour-de-klima/
LOCATION:Oslo\, SoCentral – Sentralen\, Øvre Slottsgate 3\, Oslo
CATEGORIES:Filmvisning
ORGANIZER;CN="Green Cycling Norway":MAILTO:anita@greener-events.com
GEO:59.9109933;10.7394749
X-APPLE-STRUCTURED-LOCATION;VALUE=URI;X-ADDRESS=Oslo SoCentral – Sentralen Øvre Slottsgate 3 Oslo;X-APPLE-RADIUS=500;X-TITLE=Øvre Slottsgate 3:geo:10.7394749,59.9109933
END:VEVENT
END:VCALENDAR