BEGIN:VCALENDAR
VERSION:2.0
PRODID:-//Klimafestivalen 112 - ECPv6.15.20//NONSGML v1.0//EN
CALSCALE:GREGORIAN
METHOD:PUBLISH
X-ORIGINAL-URL:https://www.klimafestivalen112.no
X-WR-CALDESC:Arrangement for Klimafestivalen 112
REFRESH-INTERVAL;VALUE=DURATION:PT1H
X-Robots-Tag:noindex
X-PUBLISHED-TTL:PT1H
BEGIN:VTIMEZONE
TZID:Europe/Oslo
BEGIN:DAYLIGHT
TZOFFSETFROM:+0100
TZOFFSETTO:+0200
TZNAME:CEST
DTSTART:20190331T010000
END:DAYLIGHT
BEGIN:STANDARD
TZOFFSETFROM:+0200
TZOFFSETTO:+0100
TZNAME:CET
DTSTART:20191027T010000
END:STANDARD
BEGIN:DAYLIGHT
TZOFFSETFROM:+0100
TZOFFSETTO:+0200
TZNAME:CEST
DTSTART:20200329T010000
END:DAYLIGHT
BEGIN:STANDARD
TZOFFSETFROM:+0200
TZOFFSETTO:+0100
TZNAME:CET
DTSTART:20201025T010000
END:STANDARD
BEGIN:DAYLIGHT
TZOFFSETFROM:+0100
TZOFFSETTO:+0200
TZNAME:CEST
DTSTART:20210328T010000
END:DAYLIGHT
BEGIN:STANDARD
TZOFFSETFROM:+0200
TZOFFSETTO:+0100
TZNAME:CET
DTSTART:20211031T010000
END:STANDARD
END:VTIMEZONE
BEGIN:VEVENT
DTSTART;TZID=Europe/Oslo:20200121T190000
DTEND;TZID=Europe/Oslo:20200121T210000
DTSTAMP:20260422T161124
CREATED:20191212T133202Z
LAST-MODIFIED:20200111T142130Z
UID:10005569-1579633200-1579640400@www.klimafestivalen112.no
SUMMARY:Raudsand deponi: Avfallets transportsyklus
DESCRIPTION:Foto: hentet fra hjemmeside til Giftfritt Nesset.\n\nI panelet:\nØystein Folden\, leder av Naturvernforbundet i Møre og Romsdal.\nØystein Solevåg\, leder for Miljøstasjonen ÅRIM Ålesund.\nArne Buset\, informasjonsrådgiver\, RIR Molde.Ordstyrer Morten Walløe Tvedt\, 1.amanuensis Høgskolen i Molde \n\n\nHumla humanetiske kor Molde i foajèen.\n\nEnkel kafè ved Besteforeldrenes klimaaksjon. Ha gjerne med egen flergangskopp.\nInngang kontant/Vipps 50 kr. Klimafestivalmedlem\, barn/unge gratis.Arrangementet blir strømmet direkte på Facebook. \n\n\nSamarbeid mellom Naturvernforbundet og Klimafestivalen i Molde
URL:https://www.klimafestivalen112.no/arrangement/raudsand-deponi-avfallets-transportsyklus/
LOCATION:Molde\, Romsdalsmuseet Krona\, Per Amdams veg 4\, Molde\, Molde\, 6413
CATEGORIES:Debatt
GEO:62.7394596;7.1507961
X-APPLE-STRUCTURED-LOCATION;VALUE=URI;X-ADDRESS=Molde Romsdalsmuseet Krona Per Amdams veg 4 Molde Molde 6413;X-APPLE-RADIUS=500;X-TITLE=Per Amdams veg 4:geo:7.1507961,62.7394596
END:VEVENT
BEGIN:VEVENT
DTSTART;TZID=Europe/Oslo:20200120T190000
DTEND;TZID=Europe/Oslo:20200120T210000
DTSTAMP:20260422T161124
CREATED:20191212T121139Z
LAST-MODIFIED:20200111T180326Z
UID:10005567-1579546800-1579554000@www.klimafestivalen112.no
SUMMARY:Naturmangfold - klima- og miljøutfordringer i vårt nærmiljø
DESCRIPTION:I dette faglige forum er det fokus på trusler for naturmangfoldet i Nye Molde. Fra ytterst i havet på Midsund til indre Eikesdalen\, så har vi en flott natur som vi skal ta vare på for framtiden.  \n \nKlima og miljøpåvirkninger fra naturinngrep \n– Fuglset mannskor: Når fjordene blåner\n– Geir Gaarder\, Miljøfaglig utredning\, Tingvoll\n– Lovise Johanne Sæther\, Prosjektleder Nasjonalt Vindsenter\, Smøla Vindpark\n– Ordstyrer Svein Bjørnerem\, journalist og fisker \nEnkel kafè ved Besteforeldrenes klimaaksjon. Ha gjerne med egen flergangskopp.\nInngang kontant/Vipps 50 kr. Klimafestivalmedlem\, barn/unge gratis.\nSted: Krona på Romsdalsmuseet. \nSamarbeid mellom  Naturvernforbundet og Klimafestivalen i Molde.
URL:https://www.klimafestivalen112.no/arrangement/naturmangfold-klima-og-miljoutfordringer-i-vart-naermiljo-2/
LOCATION:Molde\, Romsdalsmuseet Krona\, Per Amdams veg 4\, Molde\, Molde\, 6413
CATEGORIES:Debatt
GEO:62.7394596;7.1507961
X-APPLE-STRUCTURED-LOCATION;VALUE=URI;X-ADDRESS=Molde Romsdalsmuseet Krona Per Amdams veg 4 Molde Molde 6413;X-APPLE-RADIUS=500;X-TITLE=Per Amdams veg 4:geo:7.1507961,62.7394596
END:VEVENT
BEGIN:VEVENT
DTSTART;TZID=Europe/Oslo:20200115T183000
DTEND;TZID=Europe/Oslo:20200115T210000
DTSTAMP:20260422T161124
CREATED:20191211T114643Z
LAST-MODIFIED:20200111T143509Z
UID:10005561-1579113000-1579122000@www.klimafestivalen112.no
SUMMARY:Åpning av Klimafestivalen 2020: Grønn eller Grå Skipsfart?
DESCRIPTION:Kl 1830\nÅpning av festivalen ute foran Krona med dans til musikk rundt «Is» -Marmorskulptur av Torild Storvik Malmedal: www.arttorild.com \nKl 1900-2100\nPaneldebatt på Krona:\n«Grønn eller grå energi til skipsfart – i Molde havn og til havs?»\n– Vil landstrøm til skip ved kai sikre tilstrekkelig klimakutt?\n– Hva med utslippskutt fra skip i fart?\n– Eksempler på nye grønnere energiformer for lokal skipsfart\n \nI panelet:\n– Professor Svein Bråthen\, Høgskolen i Molde\n– Instituttleder Hans Peter Hildre\, NTNU avd. Ålesund\n– Havnesjef Olav Akselvoll\, Molde og Romsdal Havn\n– Administrerende direktør Dagfinn Neteland\, Fjord1 ASA \nOrdstyrer: Ole Bjørner Loe Welde\, Romsdals Budstikke \nEnkel kafè ved Besteforeldrenes klimaaksjon. Ha gjerne med egen flergangskopp.\nInngang kontant/Vipps 50 kr. Klimafestivalmedlem\, barn/unge gratis. \nArrangementet strømmes direkte på FB LIVE
URL:https://www.klimafestivalen112.no/arrangement/apning-av-klimafestivalen-2020-gronn-eller-gra-skipsfart/
LOCATION:Molde\, Romsdalsmuseet Krona\, Per Amdams veg 4\, Molde\, Molde\, 6413
CATEGORIES:Debatt
GEO:62.7394596;7.1507961
X-APPLE-STRUCTURED-LOCATION;VALUE=URI;X-ADDRESS=Molde Romsdalsmuseet Krona Per Amdams veg 4 Molde Molde 6413;X-APPLE-RADIUS=500;X-TITLE=Per Amdams veg 4:geo:7.1507961,62.7394596
END:VEVENT
END:VCALENDAR