BEGIN:VCALENDAR
VERSION:2.0
PRODID:-//Klimafestivalen 112 - ECPv6.15.20//NONSGML v1.0//EN
CALSCALE:GREGORIAN
METHOD:PUBLISH
X-ORIGINAL-URL:https://www.klimafestivalen112.no
X-WR-CALDESC:Arrangement for Klimafestivalen 112
REFRESH-INTERVAL;VALUE=DURATION:PT1H
X-Robots-Tag:noindex
X-PUBLISHED-TTL:PT1H
BEGIN:VTIMEZONE
TZID:Europe/Oslo
BEGIN:DAYLIGHT
TZOFFSETFROM:+0100
TZOFFSETTO:+0200
TZNAME:CEST
DTSTART:20190331T010000
END:DAYLIGHT
BEGIN:STANDARD
TZOFFSETFROM:+0200
TZOFFSETTO:+0100
TZNAME:CET
DTSTART:20191027T010000
END:STANDARD
BEGIN:DAYLIGHT
TZOFFSETFROM:+0100
TZOFFSETTO:+0200
TZNAME:CEST
DTSTART:20200329T010000
END:DAYLIGHT
BEGIN:STANDARD
TZOFFSETFROM:+0200
TZOFFSETTO:+0100
TZNAME:CET
DTSTART:20201025T010000
END:STANDARD
BEGIN:DAYLIGHT
TZOFFSETFROM:+0100
TZOFFSETTO:+0200
TZNAME:CEST
DTSTART:20210328T010000
END:DAYLIGHT
BEGIN:STANDARD
TZOFFSETFROM:+0200
TZOFFSETTO:+0100
TZNAME:CET
DTSTART:20211031T010000
END:STANDARD
END:VTIMEZONE
BEGIN:VEVENT
DTSTART;TZID=Europe/Oslo:20200128T173000
DTEND;TZID=Europe/Oslo:20200128T190000
DTSTAMP:20260421T114137
CREATED:20200127T135257Z
LAST-MODIFIED:20200127T135257Z
UID:10007713-1580232600-1580238000@www.klimafestivalen112.no
SUMMARY:The Future of the Ocean
DESCRIPTION:One of the most unique aspects of the Earth is its oceans. From the air we breathe to the water we drink\, sustaining life on our blue planet depends on them. Even so\, marine plastic waste is rapidly increasing\, over 90% of greenhouse gases are now stored in the sea\, and there is growing demand for ocean resources. \n\nAs the blue economy booms\, businesses need to collaborate on minimising their ocean impact and addressing climate change. What collective action is being taken to protect nature’s most important system and what more needs to be done for ocean sustainability? \nJoin us January 28 at this free event to hear from business leaders\, ocean policy experts\, and civil society\, including speakers:\n– Nina Jensen\, CEO of REV Ocean\n– Christine Spiten\, Senior Corporate Advisor\, Plastic & Circular Economy at WWF Verdens naturfond\n– Vidar Helgesen\, Norway’s Special Representative for the Ocean at Utenriksdepartementet (Norge) and Former Minister of Climate and the Environment\n– Adela Sanchez Askeland\, COO at Development Goals Forum (moderator) \nIt’s the first event in our 2020 edition of the #FutureOf talk series presented by Business for Peace and MESH. \nCan’t make it? Don’t worry– you can join via our livestream! https://vimeo.com/386911785 \n—–\nSchedule\n17:30-18:00 Doors open\, come mingle and get settled\n18:00-19:00 Talk and discussion\n19:00-late Stick around and continue the conversation
URL:https://www.klimafestivalen112.no/arrangement/the-future-of-the-ocean/
LOCATION:MESH\, Tordenskiolds gate 3\, Oslo\, 0160\, Norge
GEO:59.9131619;10.7362283
X-APPLE-STRUCTURED-LOCATION;VALUE=URI;X-ADDRESS=MESH Tordenskiolds gate 3 Oslo 0160 Norge;X-APPLE-RADIUS=500;X-TITLE=Tordenskiolds gate 3:geo:10.7362283,59.9131619
END:VEVENT
END:VCALENDAR