BEGIN:VCALENDAR
VERSION:2.0
PRODID:-//Klimafestivalen 112 - ECPv6.15.20//NONSGML v1.0//EN
CALSCALE:GREGORIAN
METHOD:PUBLISH
X-ORIGINAL-URL:https://www.klimafestivalen112.no
X-WR-CALDESC:Arrangement for Klimafestivalen 112
REFRESH-INTERVAL;VALUE=DURATION:PT1H
X-Robots-Tag:noindex
X-PUBLISHED-TTL:PT1H
BEGIN:VTIMEZONE
TZID:Europe/Oslo
BEGIN:DAYLIGHT
TZOFFSETFROM:+0100
TZOFFSETTO:+0200
TZNAME:CEST
DTSTART:20210328T010000
END:DAYLIGHT
BEGIN:STANDARD
TZOFFSETFROM:+0200
TZOFFSETTO:+0100
TZNAME:CET
DTSTART:20211031T010000
END:STANDARD
BEGIN:DAYLIGHT
TZOFFSETFROM:+0100
TZOFFSETTO:+0200
TZNAME:CEST
DTSTART:20220327T010000
END:DAYLIGHT
BEGIN:STANDARD
TZOFFSETFROM:+0200
TZOFFSETTO:+0100
TZNAME:CET
DTSTART:20221030T010000
END:STANDARD
BEGIN:DAYLIGHT
TZOFFSETFROM:+0100
TZOFFSETTO:+0200
TZNAME:CEST
DTSTART:20230326T010000
END:DAYLIGHT
BEGIN:STANDARD
TZOFFSETFROM:+0200
TZOFFSETTO:+0100
TZNAME:CET
DTSTART:20231029T010000
END:STANDARD
END:VTIMEZONE
BEGIN:VEVENT
DTSTART;TZID=Europe/Oslo:20220129T120000
DTEND;TZID=Europe/Oslo:20220130T123000
DTSTAMP:20260423T034202
CREATED:20220122T231854Z
LAST-MODIFIED:20220124T085625Z
UID:10007745-1643457600-1643545800@www.klimafestivalen112.no
SUMMARY:Hvorfor i huleste blir det varmere? Klimaforedrag for barn!
DESCRIPTION:Hvorfor i huleste blir det varmere? Klimaforedrag for barn!\nI forbindelse med Klimafestivalen §112 kommer klimapilot Hauk Are Fjeld til Klimahuset for å fortelle og vise hva klimaendringer er for noe. Med seg har han objekter barna kan ta på\, et eksperiment. bilder og film. De siste tre årene har Hauk undervist om klima for mange hundre skoleklasser. Foredraget i Klimahuset er skreddersydd for yngre barn.\n.\nBesøk også vår interaktive utstilling om klima og klimaendringer. Og denne helgen er det tegne- og buttonsverksted for barn. Kom og vær kreativ med oss!\nSulten eller tørst? Kafeen i Botanisk hage er åpen! Frossen? Ta turen innom veksthusene våre for litt tropisk stemning. Museumsbutikken er også åpen og har masse flotte ting som holder familien i aktivitet gjennom vinteren\, dyrefigurer\, plakater og edelstener\, for å nevne noe.\n.\nVi tar smittevern på alvor. Velkommen til et trygt besøk til Naturhistorisk museum!\nFoto: Hafslund
URL:https://www.klimafestivalen112.no/arrangement/hvorfor-i-huleste-blir-det-varmere-klimaforedrag-for-barn/
LOCATION:Klimahuset\, Sars' gate 1\, Oslo\, Norge
CATEGORIES:Barn/familier,Foredrag,Verksted
ATTACH;FMTTYPE=image/jpeg:https://www.klimafestivalen112.no/wp-content/uploads/2022/01/KF112-hvorfor-i-huleste-klimahuset-1.jpg
END:VEVENT
BEGIN:VEVENT
DTSTART;TZID=Europe/Oslo:20220123T110000
DTEND;TZID=Europe/Oslo:20220123T160000
DTSTAMP:20260423T034202
CREATED:20220122T214458Z
LAST-MODIFIED:20220122T214458Z
UID:10007737-1642935600-1642953600@www.klimafestivalen112.no
SUMMARY:Buttons- og tegneverksted
DESCRIPTION:Buttons- og tegneverksted. Lag din egen button!\nHver lørdag og søndag frem til vinterferien er det verksted i Klimahuset.\nLag din egen button! Den kan være vakker\, søt\, tøff eller ha et viktig budskap. Du bestemmer! Vi har maskiner og utstyret som trengs. Vi har også tegnebord.\nInngang til verkstedet følger med inngangsbilletten til Klimahuset. Og nå får du to billetter til prisen for en!\nUtstillingen om klima og klimaendringer er åpen fra kl. 11-16. I museumsbutikken kan du kjøpe flotte gaver\, eller leker og utstyr som holder familien i aktivitet gjennom vinteren. Kafeen i Botanisk hage selger varmende drikker\, bakst og enkle lønsjretter. De andre innendørs utstillingene ved Naturhistorisk museum er midlertidig stengt.\nVi tar smittevern på alvor og regulerer antall publikum i Klimahuset\, dersom det er behov for det.
URL:https://www.klimafestivalen112.no/arrangement/buttons-og-tegneverksted/
LOCATION:Klimahuset\, Sars' gate 1\, Oslo\, Norge
CATEGORIES:Barn/familier,Verksted
ATTACH;FMTTYPE=image/jpeg:https://www.klimafestivalen112.no/wp-content/uploads/2022/01/KF112-buttons-tegnedag-Klimahuset.jpg
END:VEVENT
BEGIN:VEVENT
DTSTART;TZID=Europe/Oslo:20220116T110000
DTEND;TZID=Europe/Oslo:20220116T120000
DTSTAMP:20260423T034202
CREATED:20220110T204949Z
LAST-MODIFIED:20220113T180435Z
UID:10007726-1642330800-1642334400@www.klimafestivalen112.no
SUMMARY:Kaffe og klimafilm: Enhver har rett til
DESCRIPTION:I forbindelse med Klimafestivalen 2022 viser vi filmen «Enhver har rett til» hver lørdag og søndag kl. 11 i festivalperioden. Vi serverer kaffe og anbefaler publikum å se utstillingen vår om klima og klimaendringer etter filmen.\nOm filmen: I 2016 saksøkte norske miljøorganisasjoner den norske stat\, fordi de mente at statens tillatelser til oljeutvinning i Barentshavet var i strid med miljøparagrafen (Grunnloven § 112). Miljøparagrafen har som hensikt å sikre vår og framtidige generasjoners rett til et levelig klima. Saken ble omtalt som århundrets rettssak og skapte stor offentlig debatt.\nMed en observerende form og argumentasjon fra begge sider av saken\, tvinger ENHVER HAR RETT TIL til å reflektere over om Norge har ansvar for å verne om naturen og klimaet. Som seer blir du publikum i en rettssak\, der grensene mellom juss og politikk går inn i hverandre.\nDokumentaren er filmet utelukkende inne i rettssalen i Borgarting lagmannsrett 2019 og i Høyesteretts hus 2020. Filmen på 31 minutter er et utvalg av om lag 100 timer med rettssak.\nVi tar smittevern på alvor og regulerer antall publikum i Klimahuset\, dersom det er behov for det.
URL:https://www.klimafestivalen112.no/arrangement/kaffe-og-klimafilm-enhver-har-rett-til-2/
LOCATION:Klimahuset\, Sars' gate 1\, Oslo\, Norge
CATEGORIES:Filmvisning,Utstilling
ATTACH;FMTTYPE=image/jpeg:https://www.klimafestivalen112.no/wp-content/uploads/2022/01/KF112-enhver-har-rett-til-Klimahuset.jpg
END:VEVENT
BEGIN:VEVENT
DTSTART;TZID=Europe/Oslo:20220115T110000
DTEND;TZID=Europe/Oslo:20220115T120000
DTSTAMP:20260423T034202
CREATED:20220110T204527Z
LAST-MODIFIED:20220110T204527Z
UID:10007725-1642244400-1642248000@www.klimafestivalen112.no
SUMMARY:Kaffe og klimafilm: Enhver har rett til
DESCRIPTION:I forbindelse med Klimafestivalen 2022 viser vi filmen «Enhver har rett til» hver lørdag og søndag kl. 11 i festivalperioden. Vi serverer kaffe og anbefaler publikum å se utstillingen vår om klima og klimaendringer etter filmen.\nOm filmen: I 2016 saksøkte norske miljøorganisasjoner den norske stat\, fordi de mente at statens tillatelser til oljeutvinning i Barentshavet var i strid med miljøparagrafen (Grunnloven § 112). Miljøparagrafen har som hensikt å sikre vår og framtidige generasjoners rett til et levelig klima. Saken ble omtalt som århundrets rettssak og skapte stor offentlig debatt.\nMed en observerende form og argumentasjon fra begge sider av saken\, tvinger ENHVER HAR RETT TIL til å reflektere over om Norge har ansvar for å verne om naturen og klimaet. Som seer blir du publikum i en rettssak\, der grensene mellom juss og politikk går inn i hverandre.\n\nDokumentaren er filmet utelukkende inne i rettssalen i Borgarting lagmannsrett 2019 og i Høyesteretts hus 2020. Filmen på 31 minutter er et utvalg av om lag 100 timer med rettssak.\nVi tar smittevern på alvor og regulerer antall publikum i Klimahuset\, dersom det er behov for det.
URL:https://www.klimafestivalen112.no/arrangement/kaffe-og-klimafilm-enhver-har-rett-til/
LOCATION:Klimahuset\, Sars' gate 1\, Oslo\, Norge
CATEGORIES:Filmvisning
ATTACH;FMTTYPE=image/jpeg:https://www.klimafestivalen112.no/wp-content/uploads/2022/01/KF112-enhver-har-rett-til-Klimahuset.jpg
END:VEVENT
END:VCALENDAR