BEGIN:VCALENDAR
VERSION:2.0
PRODID:-//Klimafestivalen 112 - ECPv6.15.20//NONSGML v1.0//EN
CALSCALE:GREGORIAN
METHOD:PUBLISH
X-ORIGINAL-URL:https://www.klimafestivalen112.no
X-WR-CALDESC:Arrangement for Klimafestivalen 112
REFRESH-INTERVAL;VALUE=DURATION:PT1H
X-Robots-Tag:noindex
X-PUBLISHED-TTL:PT1H
BEGIN:VTIMEZONE
TZID:Europe/Oslo
BEGIN:DAYLIGHT
TZOFFSETFROM:+0100
TZOFFSETTO:+0200
TZNAME:CEST
DTSTART:20190331T010000
END:DAYLIGHT
BEGIN:STANDARD
TZOFFSETFROM:+0200
TZOFFSETTO:+0100
TZNAME:CET
DTSTART:20191027T010000
END:STANDARD
BEGIN:DAYLIGHT
TZOFFSETFROM:+0100
TZOFFSETTO:+0200
TZNAME:CEST
DTSTART:20200329T010000
END:DAYLIGHT
BEGIN:STANDARD
TZOFFSETFROM:+0200
TZOFFSETTO:+0100
TZNAME:CET
DTSTART:20201025T010000
END:STANDARD
BEGIN:DAYLIGHT
TZOFFSETFROM:+0100
TZOFFSETTO:+0200
TZNAME:CEST
DTSTART:20210328T010000
END:DAYLIGHT
BEGIN:STANDARD
TZOFFSETFROM:+0200
TZOFFSETTO:+0100
TZNAME:CET
DTSTART:20211031T010000
END:STANDARD
END:VTIMEZONE
BEGIN:VEVENT
DTSTART;TZID=Europe/Oslo:20200129T180000
DTEND;TZID=Europe/Oslo:20200129T200000
DTSTAMP:20260421T203735
CREATED:20191213T134500Z
LAST-MODIFIED:20200111T111216Z
UID:10005576-1580320800-1580328000@www.klimafestivalen112.no
SUMMARY:Opprørsforedraget
DESCRIPTION:Rundt om i hele verden ser vi at alminnelige mennesker blokkerer gater og torg\, limer seg fast til offentlige bygninger\, stanser flyplasser\, demonstrerer og synger. Mange har aldri tidligere engasjert seg politisk\, men er nå villige til å la seg arrestere for å presse myndighetene til å handle mot klimakrisa. Hvem er disse opprørerne\, og hva vil de? \n \nPå opprørsforedraget deler vi forskning på klimaendringene og hvor vi er på vei. Vi diskuterer psykologien ved fornektelsen av klimaendringene\, og med utgangspunkt i erfaringer som er høstet av andre sosiale bevegelser\, kommer vi med forslag til hva vi kan gjøre. \nForedraget ser på vitenskapen bak den nåværende katastrofe\, og sosiologien bak måtene vi kan være i stand til å overleve den på. Foredraget er skremmende ærlig om omfanget på skadene vi forårsaker. Vi skal diskutere styrkene og begrensningene i vår kunnskap om planetens fremtid. \nVi snakker også om bakgrunnen for XR\, og forklare hvorfor sivil ulydighet er berettiget\, og hvordan ikke-voldelig sivil ulydighet kan være vårt beste håp for en fremtid i harmoni med naturen. \nAlle er velkomne. Det vil bli tid til å stille spørsmål\, og du får informasjon om hvordan du kan bli med i Extinction Rebellion-bevegelsen. \n— \nExtinction Rebellion er en opprørsbevelelse (borgerrettsbevegelse) som oppsto i England for litt over et år siden og som siden det har vokst seg til et globalt opprør mot handlingslammelsen på klima og økologisk krise. Ikke-voldelig sivil ulydighet er en sentral del av dette opprøret. XR ser samfunnspakten som brutt\, ugyldiggjort av myndighetenes mangel på nødvendig handling. Borgerne blir ikke beskyttet mot fare og dermed er sivil ulydighet og opprør berettiget og nødvendig. \nArrangør: Extinction Rebellion. \nArrangementet er en del av Klimafestivalen §112.
URL:https://www.klimafestivalen112.no/arrangement/opprorsforedraget-2/2020-01-29/
LOCATION:Skien Bibliotek\, Skien Bibliotek\, Skistredet 12\, Skien\, 3724
CATEGORIES:Foredrag
GEO:59.2081222;9.6056797
X-APPLE-STRUCTURED-LOCATION;VALUE=URI;X-ADDRESS=Skien Bibliotek Skien Bibliotek Skistredet 12 Skien 3724;X-APPLE-RADIUS=500;X-TITLE=Skien Bibliotek\, Skistredet 12:geo:9.6056797,59.2081222
END:VEVENT
BEGIN:VEVENT
DTSTART;TZID=Europe/Oslo:20200114T180000
DTEND;TZID=Europe/Oslo:20200114T200000
DTSTAMP:20260421T203735
CREATED:20191213T134500Z
LAST-MODIFIED:20200111T111216Z
UID:10005575-1579024800-1579032000@www.klimafestivalen112.no
SUMMARY:Opprørsforedraget
DESCRIPTION:Rundt om i hele verden ser vi at alminnelige mennesker blokkerer gater og torg\, limer seg fast til offentlige bygninger\, stanser flyplasser\, demonstrerer og synger. Mange har aldri tidligere engasjert seg politisk\, men er nå villige til å la seg arrestere for å presse myndighetene til å handle mot klimakrisa. Hvem er disse opprørerne\, og hva vil de? \n \nPå opprørsforedraget deler vi forskning på klimaendringene og hvor vi er på vei. Vi diskuterer psykologien ved fornektelsen av klimaendringene\, og med utgangspunkt i erfaringer som er høstet av andre sosiale bevegelser\, kommer vi med forslag til hva vi kan gjøre. \nForedraget ser på vitenskapen bak den nåværende katastrofe\, og sosiologien bak måtene vi kan være i stand til å overleve den på. Foredraget er skremmende ærlig om omfanget på skadene vi forårsaker. Vi skal diskutere styrkene og begrensningene i vår kunnskap om planetens fremtid. \nVi snakker også om bakgrunnen for XR\, og forklare hvorfor sivil ulydighet er berettiget\, og hvordan ikke-voldelig sivil ulydighet kan være vårt beste håp for en fremtid i harmoni med naturen. \nAlle er velkomne. Det vil bli tid til å stille spørsmål\, og du får informasjon om hvordan du kan bli med i Extinction Rebellion-bevegelsen. \n— \nExtinction Rebellion er en opprørsbevelelse (borgerrettsbevegelse) som oppsto i England for litt over et år siden og som siden det har vokst seg til et globalt opprør mot handlingslammelsen på klima og økologisk krise. Ikke-voldelig sivil ulydighet er en sentral del av dette opprøret. XR ser samfunnspakten som brutt\, ugyldiggjort av myndighetenes mangel på nødvendig handling. Borgerne blir ikke beskyttet mot fare og dermed er sivil ulydighet og opprør berettiget og nødvendig. \nArrangør: Extinction Rebellion. \nArrangementet er en del av Klimafestivalen §112.
URL:https://www.klimafestivalen112.no/arrangement/opprorsforedraget-2/2020-01-14/
LOCATION:Skien Bibliotek\, Skien Bibliotek\, Skistredet 12\, Skien\, 3724
CATEGORIES:Foredrag
GEO:59.2081222;9.6056797
X-APPLE-STRUCTURED-LOCATION;VALUE=URI;X-ADDRESS=Skien Bibliotek Skien Bibliotek Skistredet 12 Skien 3724;X-APPLE-RADIUS=500;X-TITLE=Skien Bibliotek\, Skistredet 12:geo:9.6056797,59.2081222
END:VEVENT
END:VCALENDAR