BEGIN:VCALENDAR
VERSION:2.0
PRODID:-//Klimafestivalen 112 - ECPv6.15.20//NONSGML v1.0//EN
CALSCALE:GREGORIAN
METHOD:PUBLISH
X-ORIGINAL-URL:https://www.klimafestivalen112.no
X-WR-CALDESC:Arrangement for Klimafestivalen 112
REFRESH-INTERVAL;VALUE=DURATION:PT1H
X-Robots-Tag:noindex
X-PUBLISHED-TTL:PT1H
BEGIN:VTIMEZONE
TZID:Europe/Oslo
BEGIN:DAYLIGHT
TZOFFSETFROM:+0100
TZOFFSETTO:+0200
TZNAME:CEST
DTSTART:20190331T010000
END:DAYLIGHT
BEGIN:STANDARD
TZOFFSETFROM:+0200
TZOFFSETTO:+0100
TZNAME:CET
DTSTART:20191027T010000
END:STANDARD
BEGIN:DAYLIGHT
TZOFFSETFROM:+0100
TZOFFSETTO:+0200
TZNAME:CEST
DTSTART:20200329T010000
END:DAYLIGHT
BEGIN:STANDARD
TZOFFSETFROM:+0200
TZOFFSETTO:+0100
TZNAME:CET
DTSTART:20201025T010000
END:STANDARD
BEGIN:DAYLIGHT
TZOFFSETFROM:+0100
TZOFFSETTO:+0200
TZNAME:CEST
DTSTART:20210328T010000
END:DAYLIGHT
BEGIN:STANDARD
TZOFFSETFROM:+0200
TZOFFSETTO:+0100
TZNAME:CET
DTSTART:20211031T010000
END:STANDARD
END:VTIMEZONE
BEGIN:VEVENT
DTSTART;TZID=Europe/Oslo:20200121T180000
DTEND;TZID=Europe/Oslo:20200121T200000
DTSTAMP:20260422T132432
CREATED:20200111T160727Z
LAST-MODIFIED:20200111T160758Z
UID:10005628-1579629600-1579636800@www.klimafestivalen112.no
SUMMARY:Naturen: Hellig skaperverk eller høstbar ressurs?
DESCRIPTION:Naturen: Hellig skaperverk eller høstbar ressurs? \nSamarbeidsrådet for tros- og livssynssamfunn Grenland inviterer til samtale om miljø\, klima og ansvar sett med både religiøse og ikke-religiøse øyne. \nI samtalepanelet: Human Etisk Forbund\, Den norske kirke\, Den katolske kirke\, Skien Moske. \nSitt Ned -Tirsdag 21. januar\, klokka 18.00
URL:https://www.klimafestivalen112.no/arrangement/naturen-hellig-skaperverk-eller-hostbar-ressurs/
LOCATION:Sitt Ned\, Telemarksgata 14\, Skien\, Skien\, 3724\, Norge
CATEGORIES:Møte
ORGANIZER;CN="Samarbeidsr%C3%A5det for tros- og livssynssamfunn Grenland":MAILTO:Brita.helleborg@gmail.com
END:VEVENT
END:VCALENDAR