BEGIN:VCALENDAR
VERSION:2.0
PRODID:-//Klimafestivalen 112 - ECPv6.15.20//NONSGML v1.0//EN
CALSCALE:GREGORIAN
METHOD:PUBLISH
X-ORIGINAL-URL:https://www.klimafestivalen112.no
X-WR-CALDESC:Arrangement for Klimafestivalen 112
REFRESH-INTERVAL;VALUE=DURATION:PT1H
X-Robots-Tag:noindex
X-PUBLISHED-TTL:PT1H
BEGIN:VTIMEZONE
TZID:Europe/Oslo
BEGIN:DAYLIGHT
TZOFFSETFROM:+0100
TZOFFSETTO:+0200
TZNAME:CEST
DTSTART:20190331T010000
END:DAYLIGHT
BEGIN:STANDARD
TZOFFSETFROM:+0200
TZOFFSETTO:+0100
TZNAME:CET
DTSTART:20191027T010000
END:STANDARD
BEGIN:DAYLIGHT
TZOFFSETFROM:+0100
TZOFFSETTO:+0200
TZNAME:CEST
DTSTART:20200329T010000
END:DAYLIGHT
BEGIN:STANDARD
TZOFFSETFROM:+0200
TZOFFSETTO:+0100
TZNAME:CET
DTSTART:20201025T010000
END:STANDARD
BEGIN:DAYLIGHT
TZOFFSETFROM:+0100
TZOFFSETTO:+0200
TZNAME:CEST
DTSTART:20210328T010000
END:DAYLIGHT
BEGIN:STANDARD
TZOFFSETFROM:+0200
TZOFFSETTO:+0100
TZNAME:CET
DTSTART:20211031T010000
END:STANDARD
BEGIN:DAYLIGHT
TZOFFSETFROM:+0100
TZOFFSETTO:+0200
TZNAME:CEST
DTSTART:20220327T010000
END:DAYLIGHT
BEGIN:STANDARD
TZOFFSETFROM:+0200
TZOFFSETTO:+0100
TZNAME:CET
DTSTART:20221030T010000
END:STANDARD
BEGIN:DAYLIGHT
TZOFFSETFROM:+0100
TZOFFSETTO:+0200
TZNAME:CEST
DTSTART:20230326T010000
END:DAYLIGHT
BEGIN:STANDARD
TZOFFSETFROM:+0200
TZOFFSETTO:+0100
TZNAME:CET
DTSTART:20231029T010000
END:STANDARD
BEGIN:DAYLIGHT
TZOFFSETFROM:+0100
TZOFFSETTO:+0200
TZNAME:CEST
DTSTART:20240331T010000
END:DAYLIGHT
BEGIN:STANDARD
TZOFFSETFROM:+0200
TZOFFSETTO:+0100
TZNAME:CET
DTSTART:20241027T010000
END:STANDARD
END:VTIMEZONE
BEGIN:VEVENT
DTSTART;TZID=Europe/Oslo:20230129T170000
DTEND;TZID=Europe/Oslo:20230129T230000
DTSTAMP:20260421T153725
CREATED:20221219T065023Z
LAST-MODIFIED:20230129T111755Z
UID:10007758-1675011600-1675033200@www.klimafestivalen112.no
SUMMARY:Skyryddedagen
DESCRIPTION:Å rydde skya for digitalt søppel er et godt klimatiltak som sparer masse energi\, utslipp og natur. Dette er et enkelt klimatiltak du kan gjøre hjemme i stua og på jobb for å redusere klimautslippet ditt og energiforbruket. Vi inviterer deg til å være med og ta din skjerv i vår kollektive skyryddedag nå i inngangen til det nye klimaåret der det å spare energi er viktig. \nMøtet i dag er avlyst på grunn av sykdom\, men vi i Norsk klimanettverk oppfordrer alle til å ta en skyryddesjau i dag! Vi oppfordrer også alle til å arrangere en egen skyryddeuke på jobben\, og som de fleste klimatiltak er det vinn-vinn-vinn: bra for klima og natur\, fra for deg og det kutter utgifter til lagring. \nDitt digitale CO2 fotavtrykk\nHar du tenkt over hvor mye energi som brukes på å holde serverne som utgjør skya i gang? Hvor mye energi som brukes hver gang vi laster ned noe fra internett\, streamer en film\, sender en e-post? Har du tenkt over hvor energien til skya kommer fra? De store serverparkene går på kull\, gass\, olje og fornybart som vi trenger mer av for å gjennomføre det grønne skiftet. \nSlett alt du ikke trenger eller har glemt at du hadde 👀 \n> Bilder\, videoer\, googledocs og e-poster \nDet er enkelt å redusere forbruket ditt i skya \n> Ikke svar alle\, alltid på e-post. Hver gang noen laster ned en e-post bruker Skya energi. \n> Last ned bare det du skal bruke \nDelta på Skyryddedagen hjemmefra\, inviter andre til å være med\, og ta en sjau på jobben (IT-sjefen på jobben blir også glad om bedriften må betale mindre for serverplass). \nLes mer om digitalt forbruk og fotavtrykk   \nhttps://climatecare.org/infographic-the-carbon-footprint-of-the-internet/\nhttps://en.reset.org/knowledge/our-digital-carbon-footprint-whats-the-environmental-impact-online-world-12302019\nSe Facebook’s største datasenter https://www.youtube.com/watch?v=frzVtaNrHU0
URL:https://www.klimafestivalen112.no/arrangement/skyryddedagen/
LOCATION:Nettarrangement
CATEGORIES:Verksted,Workshop
ATTACH;FMTTYPE=image/jpeg:https://www.klimafestivalen112.no/wp-content/uploads/2022/12/KF112-Strutsen-scaled.jpg
ORGANIZER;CN="Norsk klimanettverk":MAILTO:hei@norskklimanettverk.no
END:VEVENT
BEGIN:VEVENT
DTSTART;TZID=Europe/Oslo:20230124T180000
DTEND;TZID=Europe/Oslo:20230124T210000
DTSTAMP:20260421T153725
CREATED:20230119T221437Z
LAST-MODIFIED:20230124T173310Z
UID:10007822-1674583200-1674594000@www.klimafestivalen112.no
SUMMARY:Climate Education for All; Open Letter to COP28
DESCRIPTION:EARTHDAY.ORG\, The #ClimateEducationCoalition and Be. are hosting a live event at Salvation in the Multiverse IIR in honor of this year’s #InternationalDayOfEducation to discuss what needs to be accomplished in 2023 to make equitable education possible.\nThe event will showcase the major strides made at COP 27 this past November\, like EARTHDAY.ORG’s first-of-its-kind Climate Education Hub and securing climate education as a negotiating item for #COP28\, as well as provide event-goers the opportunity to participate in an interactive Q&A with the Climate Education Coalition.\nFor more information about how to get involved\, please visit https://bit.ly/3QQN3rr\n\nPs. No VR headsets necessary!\n@earthdayorg @betheproject @multiverse_iir\n@UNESCO @United Nations @Dubai Cares @COP28\n#Ed4Earth #ClimateEducation #InvestInOurPlanet #multiverseiir #salvati0nx #BeTogether #COP28\n\n\nThe Climate Education Coalition\, established on 10th November\, 2022 at COP27 and representing over 100 organisations and individuals\, are calling upon the COP28 UAE Presidency and every UN member state to cooperate with us in order to signify universal climate education as a crucial aspect of combating the climate crisis. \nIn alignment with the targets of SDG4\, SDG13\, Article-12 of the Paris Agreement\, Article-6 of the UN Declaration of Human Rights and UNESCO ESD Programme\, we are demanding effective and consistent collaborative actions from the COP28 UAE Presidency and the Minister(s) of Education & Environment from UN member states to ensure the establishment of quality education for children\, youth and adults to tackle the climate crisis worldwide along with necessary planning\, funding and implementation. \nEducation is a human right\, a public good and a public responsibility. \nThe United Nations General Assembly proclaimed 24 January as International Day of Education\, in celebration of the role of education for peace and development. \nWithout inclusive and equitable quality education and lifelong opportunities for all\, countries will not succeed in achieving gender equality and breaking the cycle of poverty that is leaving millions of children\, youth and adults behind. \nToday\, 244 million children and youth are out of school\, and 771 million adults are illiterate. Their right to education is being violated and it is unacceptable. It’s time to transform education.
URL:https://www.klimafestivalen112.no/arrangement/climate-education-for-all-open-letter-to-cop28/
LOCATION:Digitalt arrangement\, Se lenke i teksten\, Norge
CATEGORIES:Foredrag,Markering,VR Experience
ATTACH;FMTTYPE=image/png:https://www.klimafestivalen112.no/wp-content/uploads/2023/01/The-Calling-24-Januar-2023-Int.-Education-Day-1.png
ORGANIZER;CN="Norsk klimanettverk":MAILTO:hei@norskklimanettverk.no
END:VEVENT
BEGIN:VEVENT
DTSTART;TZID=Europe/Oslo:20230121T170000
DTEND;TZID=Europe/Oslo:20230121T180000
DTSTAMP:20260421T153725
CREATED:20230119T231026Z
LAST-MODIFIED:20230121T100642Z
UID:10007823-1674320400-1674324000@www.klimafestivalen112.no
SUMMARY:Invisible Marks!
DESCRIPTION:Welcome to this interactive theater play\, presenting its new game!  \nJoin us and be part of our online show and look at the carbon footprint we all leave behind every day of our lives.\nLog in on the zoom link and you will get further instructions\, https://us02web.zoom.us/j/87849379830 \nThe play explore how edutainment is part of solutions to combat climate change. It is creative\, collaborative and across continents to explore our personal footprints. This is an online theatre performance\, and it will be SpectACtors. The play is organized by the cross-cultural theater group The Red Curtain International. \nThis online activity is interlinked with the physical meeting\, Cool People\, Cool the Planet\, taking place at GreenHouse\, 21st January\, hosted by C6 World Erasmus+. It is a pilot and a teaser for a teaser\, and experimental digital theatre. It will be performed in lenght for Earth Day 22. April 2023. \nLet us explore the invisible mark. Are you ready to Act?\nThe goal is to reach a billion human beings to make a transition to be aware of our footprints. Can we do it? Will we do it?\n​Creative\, collaborative\, culture to combat climate change! Are you ready to take action? #ican #wecan #ucan \nRed Curtain Theatre International in partnership with World Climate School and C6 World presents: INVISIBLE MARKS. It is a new digital production looking at our lifestyle and the marks of our footprints.  The red curtains are opening today 21. January at 5pm CET\, as part of the program of Klimatefestival in Oslo and the presentation of the World of C6.  You take part by connect at this zoomline.
URL:https://www.klimafestivalen112.no/arrangement/invisible-marks/
LOCATION:Nettarrangement
CATEGORIES:Teater
ATTACH;FMTTYPE=image/png:https://www.klimafestivalen112.no/wp-content/uploads/2023/01/6.png
ORGANIZER;CN="Norsk klimanettverk":MAILTO:hei@norskklimanettverk.no
END:VEVENT
BEGIN:VEVENT
DTSTART;TZID=Europe/Oslo:20210114T080000
DTEND;TZID=Europe/Oslo:20210131T230000
DTSTAMP:20260421T153725
CREATED:20210111T173109Z
LAST-MODIFIED:20210113T103207Z
UID:10007717-1610611200-1612134000@www.klimafestivalen112.no
SUMMARY:Ryddefest i skya
DESCRIPTION:  \nBli med på tidenes ryddefest i skya!\nEt godt klimatiltak som sparer masse energi. Å rydde i alt du har lagret i skya er noe av det enkleste du kan gjøre som bedrift og enkeltperson for å redusere klimautslippet ditt og energiforbruket. Vi inviterer deg til å være med og ta din skjerv i en kollektiv ryddefest i skya nå i inngangen til det nye klimaåret. \nDitt digitale CO2 fotavtrykk\nHar du tenkt over hvor mye energi som brukes på å holde serverne som utgjør skya i gang? Hvor mye energi som brukes hver gang vi laster ned noe fra internett\, streamer en film\, sender en e-post? Har du tenkt over hvor energien til skya kommer fra? Det er både kull\, gass\, olje og fornybart som vi trenger mer av for å gjennomføre det grønne skiftet. \nSLETT ALT DU IKKE TRENGER OG HAR GLEMT AT DU HAR: \n\nDårlige og utdaterte bilder og videoer\nGamle dokumenter\nUinteressante og gamle e-poster\n\nREDUSER FORBRUKET PÅ INTERNETT: \n\nSvar færre og ikke alle alltid\nLast ned bare det du skal bruke\nBli bedre på gode søk\n\nDu deltar på ryddefesten hjemmefra eller på jobben\, som privatperson eller arbeidstaker (IT-sjefen på jobben blir nok også glad om bedriften må betale mindre for serverplass). Rekrutter andre i ditt nettverk eller bedrift til å være med på ryddefesten. \nLES MER OM DIGITALT FORBRUK OG FOTAVRTRYKK  \n\nhttps://climatecare.org/infographic-the-carbon-footprint-of-the-internet/\nhttps://en.reset.org/knowledge/our-digital-carbon-footprint-whats-the-environmental-impact-online-world-12302019\nSe Facebook’s største datasenter https://www.youtube.com/watch?v=frzVtaNrHU0\n\n 
URL:https://www.klimafestivalen112.no/arrangement/ryddefest-i-skya/
LOCATION:Hjemme / på jobben\, Norge
CATEGORIES:Fiksefest,Søppelrydding
ATTACH;FMTTYPE=image/jpeg:https://www.klimafestivalen112.no/wp-content/uploads/2021/01/Skyer-2-chris-hardy-wqqQQL-mks8-unsplash-scaled.jpg
ORGANIZER;CN="Norsk klimanettverk":MAILTO:hei@norskklimanettverk.no
END:VEVENT
BEGIN:VEVENT
DTSTART;TZID=Europe/Oslo:20200118T120000
DTEND;TZID=Europe/Oslo:20200118T230000
DTSTAMP:20260421T153725
CREATED:20191112T152138Z
LAST-MODIFIED:20200118T002624Z
UID:10005546-1579348800-1579388400@www.klimafestivalen112.no
SUMMARY:Klimafest på SALT 18. januar
DESCRIPTION:Hold av datoen! Mer info kommer. \nMålet med Klimafestivalen §112 er å skape økt bevissthet om klimautviklingen vi er inne i\, og engasjement for å endre den. Festivalen fremmer Grunnlovens §112\, som forplikter oss til tiltak som verner vårt felles livsmiljø\, også for fremtidige generasjoner. \n \n\nLørdag 18.januar feirer vi klimaåret 2019 på SALT art & music. Programmet varer fra 12 til 24. Det blir gratis\, åpent for alle og en fest som er 2019 verdig!\n\n\n \n\n\nPROGRAM\n\n\n\n\n12.00 – 16.00 Barnas Klimalab  – Et flytende laboratorium med aktiviteter og verksteder for \n\n\nbarn og barnlige voksne.\n\n\n\n\n12.00 -13.00 Den lille havryddedagen : Dykkerne fortsetter der de slapp i fjor. Nå også på land!\n\n\n\n\n\n12.00 -16.00 Grønn Bazaar : Bærekraftig og etisk mote\, zero waste-produkter\, tips og\n\n\ntriks til å bli en bedre forbruker. Kaffeslaberas og musikk.\n\n\n \n\n\n12.30 – 13.30 Blekkulf kommer! : Blekkulf og vennene hans er tilbake!\n\n\n\n\n13:00 – 13:30 Musikalsk klimaeventyr til sjøs : Musikk-eventyret «Askeladden og Den lille havfruen» ombord på båten The Ocean Opportunity Lab\n\n\n\n\n\n\n13.00 – 16.00 Slowfashion og reparasjon med Relove : Ta med deg klær som trenger reparasjon! \n\n\n \n\n\n13.30 – 15.30 Workshop med Guerrilla Plastic  – Verksted for unge med kunstnergruppen Guerrilla Plastic Movement\n\n\n \n\n\n14.00 – 14.30 Moteshow med Frios og Klimakunst : FRIOS Frisørenes Opplæringskontor Oslo og omegn + KlimaKunst + Nudie Jeans Hegdehaugsveien + etiskmote.no\n\n\n \n\n\n15.00 – 16.00 Re:Dux – Bergans x Esmod : Designstudentene ved ESMOD Oslo + Bergans of Norway\n\n\n \n\n\n16.00 – 16.30 Ora The Molecule  – Konsert. Avant-garde-pop \n\n\n \n\n\n16.00 – 18.00 ReArctic Think&talk | Oslo : Samtale om modige valg med Iselin Shumba\, Catharina Frostad\, Kjetil Isaksen og publikum ombord på båten Tools.\n\n\n \n\n\n\n16.00 – 22.00 Grønn Salong : Salongstemning med tekst\, poesi og musikk: \n\n16.30. Konsert Monne\n\n\n17.15. Poesi: Åsmund Seip\n\n\n17.30. Poesi\, Hanna Asefaw (+Hanna) \n\n\n17.45. Poesi\, Mina Adampour \n\n\n18.00. Poesi\, Regine Folkman Rossnes\n\n\n18.15. Tekst-opplesning\, Knut Nærum\n\n\n19.00. Konsert\, MayaLila\n\n\n19.45. Konsert\, Robert Haraldsen\n\n\n20.30. Konsert\, Mathilde Wigre\n\n\n21.15. Konsert\, Moddi\n\n\n\n\n \n\n\n17.30 – 18.30 Nysirkusforestilling KIME : Se Acting for Climate sin nye forestilling “Kime”\,en spektakulær nysirkusforestilling om det vakre i naturen\n\n\n \n\n\n18.15 – 18.30 Ungdomskorverket Pyio-Pyio – Sounds from the Arctic! Norsk klimanettverk sitt eget korverk. Musikk av av Henrik Ødegaard og tekst av Gro Dahle. Temaet er klimaendringene og dyrelivet i Arktis og om ungdom som inspirerer til håp «Pyio – pyio» er sangen til Snøspurven som hekker i Arktiske områder.  Prosjektet er initiert av Lars Fjelldal og Frøydis Dahlø i samarbeid med Pamela Hiley\, Norsk Taiji Senter.\n\n\n\n\n18:30 – 18:50 Jai – Jagat lager sermonien Sacrum libellum. Innslaget befinner seg et sted mellom performance og ritual. Prosjektet er å samskape et hellig rom for å hedre naturens ånd og menneskets åndelighet. Prosjektet er initiert av Jessica Ullevålseter i samarbeid med Arktisk Sjaman Sirkel\, Extinction Rebellion Norway\, Pride Art\, Kosmologisk Livstro\, Inayat Orden\, Sagene kirke\, Oslo kommune og Kunstklubben. På SALT samarbeider hun med Pamela Hiley\, Norsk Taiji Senter. \n\n\n \n\n\n18.00 – 21.00 Bytt & SYNG + Klimakaraoke! : Klimakaraoke og klesbyttemarked i ett! Signert Klimahuset\, SYNG Grünerløkka og Framtiden i våre hender\n\n\n \n\n\n19.00 – 21.15 Pecha Kucha Spesial : Vi feirer klimaåret 2019 med 12 lynforedrag om fjorårets klimaseire\, fortalt av klimaheltene selv.\n\n\n \n\n\n22.15 – 23.00 Anna of the North : Konsert med  soft electro-pop i Langhuset\n\n\n \n\n\nDET KAN KOMME ENDRINGER I PROGRAMMET – Se alle våre eventer på Facebook for oppdatering! \n\n\n \n\n\nKlimafestivalen §112 drives av frivillige og er et spleise­lag og en dugnad blant klimaengasjerte ildsjeler. Artister og bidragsytere tar lite\, eller ingenting betalt\, slik at festivalen kan være gratis for alle. Målet med Klimafestivalen §112 er å skape økt bevissthet om klimautviklingen\, og engasjement for å endre den. Les mer på nettsiden: www.klimafestival112.no \n\n  \n 
URL:https://www.klimafestivalen112.no/arrangement/klimafest-pa-salt-18-januar/
LOCATION:SALT Oslo\, Langkaia 1\, Oslo\, 0150 Oslo
CATEGORIES:Aktivitet,Anbefalt,Barn/familier,Debatt,Fest,Fiksefest,Filmvisning,Foredrag,Forestilling,Høytlesning,Kafé,Konsert,Marked,Markering,Middag,Performance,Søppelrydding,Utstilling,Verksted,Workshop
ATTACH;FMTTYPE=image/jpeg:https://www.klimafestivalen112.no/wp-content/uploads/2019/02/kf2019-salt-3.jpg
ORGANIZER;CN="Norsk klimanettverk":MAILTO:hei@norskklimanettverk.no
GEO:59.9077124;10.7466154
X-APPLE-STRUCTURED-LOCATION;VALUE=URI;X-ADDRESS=SALT Oslo Langkaia 1 Oslo 0150 Oslo;X-APPLE-RADIUS=500;X-TITLE=Langkaia 1:geo:10.7466154,59.9077124
END:VEVENT
END:VCALENDAR