BEGIN:VCALENDAR
VERSION:2.0
PRODID:-//Klimafestivalen 112 - ECPv6.15.20//NONSGML v1.0//EN
CALSCALE:GREGORIAN
METHOD:PUBLISH
X-ORIGINAL-URL:https://www.klimafestivalen112.no
X-WR-CALDESC:Arrangement for Klimafestivalen 112
REFRESH-INTERVAL;VALUE=DURATION:PT1H
X-Robots-Tag:noindex
X-PUBLISHED-TTL:PT1H
BEGIN:VTIMEZONE
TZID:Europe/Oslo
BEGIN:DAYLIGHT
TZOFFSETFROM:+0100
TZOFFSETTO:+0200
TZNAME:CEST
DTSTART:20190331T010000
END:DAYLIGHT
BEGIN:STANDARD
TZOFFSETFROM:+0200
TZOFFSETTO:+0100
TZNAME:CET
DTSTART:20191027T010000
END:STANDARD
BEGIN:DAYLIGHT
TZOFFSETFROM:+0100
TZOFFSETTO:+0200
TZNAME:CEST
DTSTART:20200329T010000
END:DAYLIGHT
BEGIN:STANDARD
TZOFFSETFROM:+0200
TZOFFSETTO:+0100
TZNAME:CET
DTSTART:20201025T010000
END:STANDARD
BEGIN:DAYLIGHT
TZOFFSETFROM:+0100
TZOFFSETTO:+0200
TZNAME:CEST
DTSTART:20210328T010000
END:DAYLIGHT
BEGIN:STANDARD
TZOFFSETFROM:+0200
TZOFFSETTO:+0100
TZNAME:CET
DTSTART:20211031T010000
END:STANDARD
END:VTIMEZONE
BEGIN:VEVENT
DTSTART;TZID=Europe/Oslo:20200127T190000
DTEND;TZID=Europe/Oslo:20200127T220000
DTSTAMP:20260421T052023
CREATED:20200124T142816Z
LAST-MODIFIED:20200124T142816Z
UID:10007711-1580151600-1580162400@www.klimafestivalen112.no
SUMMARY:Mennesket\, molda og naturen
DESCRIPTION:Lyst til å lære mer om naturnær og bærekraftig matproduksjon? Kom og få inspirasjon og råd fra bokaktuelle Dag Jørund Lønning. \n \nI kjøkkenhagen på Jæren får Lønning rekordstore avlinger\, uavhengig av ekstremvær i form av regn eller tørke. Dette får han ved å spille på lag med naturen og drive regenerativt\, som handler om å fornye og bygge molda\, fremfor å utarme den. \nIfølge Lønning vil en ny\, grønn revolusjon kunne gi nok mat til alle\, redusere CO2 i atmosfæren og styrke matjord i møte med ekstremvær. I likhet med mange andre forskere mener han at økt karbonlagring i jord kan bidra til å bremse klima- og naturkrisen. \nLønning er forfatter av Jordboka I og II\, og er i tillegg professor og rektor på Høgskulen for Landbruk og Bygdeutvikling på Jæren. \nForedraget arrangeres i Auditorium B på Høgskulen på Vestlandet. Det er gratis for medlemmer av Naturvernforbundet og kr 50\,- for ikke medlemmer. \nBli medlem ved å sende sms med NATUR til 2377 – kr 200\,- for enkeltmedlem og kr 300\,- for familie. Kun Vipps eller kontant mottas ved inngangen. Mat og drikke kan kjøpes i Høgskulens kafé frem til kl 19:00. (Edit: Høgskulens kafé er stengt pga flytting akkurat den dagen.) \nForedraget er Naturvernforbundet Haugalandet sitt bidrag i Klimafestivalen 2020\, som arrangeres sammen med andre miljøorganisasjoner på Haugalandet med støtte fra Haugesund\, Karmøy og Tysvær kommuner.
URL:https://www.klimafestivalen112.no/arrangement/mennesket-molda-og-naturen/
LOCATION:Bjørnsons gate 45
END:VEVENT
BEGIN:VEVENT
DTSTART;TZID=Europe/Oslo:20200121T190000
DTEND;TZID=Europe/Oslo:20200121T210000
DTSTAMP:20260421T052023
CREATED:20191212T133202Z
LAST-MODIFIED:20200111T142130Z
UID:10005569-1579633200-1579640400@www.klimafestivalen112.no
SUMMARY:Raudsand deponi: Avfallets transportsyklus
DESCRIPTION:Foto: hentet fra hjemmeside til Giftfritt Nesset.\n\nI panelet:\nØystein Folden\, leder av Naturvernforbundet i Møre og Romsdal.\nØystein Solevåg\, leder for Miljøstasjonen ÅRIM Ålesund.\nArne Buset\, informasjonsrådgiver\, RIR Molde.Ordstyrer Morten Walløe Tvedt\, 1.amanuensis Høgskolen i Molde \n\n\nHumla humanetiske kor Molde i foajèen.\n\nEnkel kafè ved Besteforeldrenes klimaaksjon. Ha gjerne med egen flergangskopp.\nInngang kontant/Vipps 50 kr. Klimafestivalmedlem\, barn/unge gratis.Arrangementet blir strømmet direkte på Facebook. \n\n\nSamarbeid mellom Naturvernforbundet og Klimafestivalen i Molde
URL:https://www.klimafestivalen112.no/arrangement/raudsand-deponi-avfallets-transportsyklus/
LOCATION:Molde\, Romsdalsmuseet Krona\, Per Amdams veg 4\, Molde\, Molde\, 6413
CATEGORIES:Debatt
GEO:62.7394596;7.1507961
X-APPLE-STRUCTURED-LOCATION;VALUE=URI;X-ADDRESS=Molde Romsdalsmuseet Krona Per Amdams veg 4 Molde Molde 6413;X-APPLE-RADIUS=500;X-TITLE=Per Amdams veg 4:geo:7.1507961,62.7394596
END:VEVENT
END:VCALENDAR