BEGIN:VCALENDAR
VERSION:2.0
PRODID:-//Klimafestivalen 112 - ECPv6.15.20//NONSGML v1.0//EN
CALSCALE:GREGORIAN
METHOD:PUBLISH
X-ORIGINAL-URL:https://www.klimafestivalen112.no
X-WR-CALDESC:Arrangement for Klimafestivalen 112
REFRESH-INTERVAL;VALUE=DURATION:PT1H
X-Robots-Tag:noindex
X-PUBLISHED-TTL:PT1H
BEGIN:VTIMEZONE
TZID:Europe/Oslo
BEGIN:DAYLIGHT
TZOFFSETFROM:+0100
TZOFFSETTO:+0200
TZNAME:CEST
DTSTART:20190331T010000
END:DAYLIGHT
BEGIN:STANDARD
TZOFFSETFROM:+0200
TZOFFSETTO:+0100
TZNAME:CET
DTSTART:20191027T010000
END:STANDARD
BEGIN:DAYLIGHT
TZOFFSETFROM:+0100
TZOFFSETTO:+0200
TZNAME:CEST
DTSTART:20200329T010000
END:DAYLIGHT
BEGIN:STANDARD
TZOFFSETFROM:+0200
TZOFFSETTO:+0100
TZNAME:CET
DTSTART:20201025T010000
END:STANDARD
BEGIN:DAYLIGHT
TZOFFSETFROM:+0100
TZOFFSETTO:+0200
TZNAME:CEST
DTSTART:20210328T010000
END:DAYLIGHT
BEGIN:STANDARD
TZOFFSETFROM:+0200
TZOFFSETTO:+0100
TZNAME:CET
DTSTART:20211031T010000
END:STANDARD
END:VTIMEZONE
BEGIN:VEVENT
DTSTART;TZID=Europe/Oslo:20200129T190000
DTEND;TZID=Europe/Oslo:20200129T203000
DTSTAMP:20260422T225039
CREATED:20200111T143620Z
LAST-MODIFIED:20200111T143620Z
UID:10005533-1580324400-1580329800@www.klimafestivalen112.no
SUMMARY:Klima - utfordringer og tiltak
DESCRIPTION:Klima – store utfordringer\, enkle tiltak? \nKim Øvland er PhD-kandidat ved UiA og ansatt i Kristiansand kommune. Han forsker på offentlig sektors klimamål og spør om de store utfordringene kan løses med enkle tiltak – i så fall hvilke? Bli med på den spennende dialogen om hvordan vi går fra ord til handling. \nGratis og åpent for alle.
URL:https://www.klimafestivalen112.no/arrangement/klima-utfordringer-og-tiltak/
LOCATION:Kristiansand\, Grønt senter\, Odderøyveien 5
CATEGORIES:Møte
GEO:58.1405182;7.9976124
X-APPLE-STRUCTURED-LOCATION;VALUE=URI;X-ADDRESS=Kristiansand Grønt senter Odderøyveien 5;X-APPLE-RADIUS=500;X-TITLE=Odderøyveien 5:geo:7.9976124,58.1405182
END:VEVENT
BEGIN:VEVENT
DTSTART;TZID=Europe/Oslo:20200128T200000
DTEND;TZID=Europe/Oslo:20200128T213000
DTSTAMP:20260422T225039
CREATED:20200111T151215Z
LAST-MODIFIED:20200111T151309Z
UID:10005535-1580241600-1580247000@www.klimafestivalen112.no
SUMMARY:Kan batterier redde verden?
DESCRIPTION:Li-ion batterier – kan de redde verden? \nGunstein Skomedal er postdoktor ved institutt for ingeniørvitenskap\, UIA. Han har arbeidet både hos Elkem Solar og nå sist som produktansvarlig for batterimaterialer ved Elkem Carbon. \nPå møtet får du en førstehånds innføring i et spennende tema – om hva som skjer på batterifronten og hvordan ny teknologi kan spille en viktig rolle i det grønne skifte. \nGratis og åpent for alle.
URL:https://www.klimafestivalen112.no/arrangement/kan-batterier-redde-verden/
LOCATION:Kristiansand\, Grønt senter\, Odderøyveien 5
CATEGORIES:Møte
GEO:58.1405182;7.9976124
X-APPLE-STRUCTURED-LOCATION;VALUE=URI;X-ADDRESS=Kristiansand Grønt senter Odderøyveien 5;X-APPLE-RADIUS=500;X-TITLE=Odderøyveien 5:geo:7.9976124,58.1405182
END:VEVENT
BEGIN:VEVENT
DTSTART;TZID=Europe/Oslo:20200121T190000
DTEND;TZID=Europe/Oslo:20200121T203000
DTSTAMP:20260422T225039
CREATED:20200111T151550Z
LAST-MODIFIED:20200111T151711Z
UID:10005625-1579633200-1579638600@www.klimafestivalen112.no
SUMMARY:Grønne strømløsninger
DESCRIPTION:Nyttige tips og presentasjon av nye REC Solar i Kristiansand \n \nSolindustrien kommer til å forvandle vår energihverdag. Ronny Gløckner er senior R&D Engineer (PhD) hos REC Solar og han tror det bare er et tidsspørsmål får solceller blir montert på alle tak – også i Norge. \nLær mer om hvordan egen strømproduksjon bidrar til et solid grønt fotavtrykk og få oppdatert informasjon om den nye produksjonsmetoden hos verdens mest klimavennlige og energieffektive solcelleleverandør. \nGratis og åpent for alle!
URL:https://www.klimafestivalen112.no/arrangement/gronne-stromlosninger/
LOCATION:Kristiansand\, Grønt senter\, Odderøyveien 5
CATEGORIES:Møte
GEO:58.1405182;7.9976124
X-APPLE-STRUCTURED-LOCATION;VALUE=URI;X-ADDRESS=Kristiansand Grønt senter Odderøyveien 5;X-APPLE-RADIUS=500;X-TITLE=Odderøyveien 5:geo:7.9976124,58.1405182
END:VEVENT
END:VCALENDAR