BEGIN:VCALENDAR
VERSION:2.0
PRODID:-//Klimafestivalen 112 - ECPv6.15.20//NONSGML v1.0//EN
CALSCALE:GREGORIAN
METHOD:PUBLISH
X-ORIGINAL-URL:https://www.klimafestivalen112.no
X-WR-CALDESC:Arrangement for Klimafestivalen 112
REFRESH-INTERVAL;VALUE=DURATION:PT1H
X-Robots-Tag:noindex
X-PUBLISHED-TTL:PT1H
BEGIN:VTIMEZONE
TZID:Europe/Oslo
BEGIN:DAYLIGHT
TZOFFSETFROM:+0100
TZOFFSETTO:+0200
TZNAME:CEST
DTSTART:20190331T010000
END:DAYLIGHT
BEGIN:STANDARD
TZOFFSETFROM:+0200
TZOFFSETTO:+0100
TZNAME:CET
DTSTART:20191027T010000
END:STANDARD
BEGIN:DAYLIGHT
TZOFFSETFROM:+0100
TZOFFSETTO:+0200
TZNAME:CEST
DTSTART:20200329T010000
END:DAYLIGHT
BEGIN:STANDARD
TZOFFSETFROM:+0200
TZOFFSETTO:+0100
TZNAME:CET
DTSTART:20201025T010000
END:STANDARD
BEGIN:DAYLIGHT
TZOFFSETFROM:+0100
TZOFFSETTO:+0200
TZNAME:CEST
DTSTART:20210328T010000
END:DAYLIGHT
BEGIN:STANDARD
TZOFFSETFROM:+0200
TZOFFSETTO:+0100
TZNAME:CET
DTSTART:20211031T010000
END:STANDARD
END:VTIMEZONE
BEGIN:VEVENT
DTSTART;TZID=Europe/Oslo:20200201T150000
DTEND;TZID=Europe/Oslo:20200201T235900
DTSTAMP:20260420T121829
CREATED:20200128T103148Z
LAST-MODIFIED:20200128T103148Z
UID:10005627-1580569200-1580601540@www.klimafestivalen112.no
SUMMARY:Klimafest på Dansens Hus
DESCRIPTION:Velkommen til Klimafest på Dansens Hus\, det siste arrangementet i årets Klimafestival§112 i Oslo.\n\nVi inviterer til Think&talk | Brann som fenomen kl. 15.00 med Truls Gullowsen fra Regnskogsfondet\, Christian Steel fra Sabima og Ina Christel Johannesen\, koreograf for stykket ‘When Monday Came’. \nForestillingen ‘When Monday Came’ vises kl. 17.00 på Dansens Hus\, med det høyaktuelle teamet ‘verden brenner’ om skogbrannene i Australia\, Amazonas og Afrika. \nEtter forestillingen blir det poesi og live-musikk fra kl 19.00 til 21.00: \n19.00: Amelia Gomez Snerte\, poesi & musikk\n19.45: Marte Wulff\, musikk\n20.30: Caroline Bonnet\, musikk \nArrangementet avsluttes med DJ fra kl. 21.00 og ut kvelden. \nBilletter til forestillingen ‘When Monday Came’ finner du her: https://www.dansenshus.com/hendelser/jorda-brenner-panelsamtale \nResten av programmet er gratis.
URL:https://www.klimafestivalen112.no/arrangement/klimafest-pa-dansens-hus/
LOCATION:Oslo\, Dansens Hus\, Vulkan 1\, Oslo
ORGANIZER;CN="Dansens Hus":MAILTO:erik@dansenshus.com
GEO:59.9222531;10.7516425
X-APPLE-STRUCTURED-LOCATION;VALUE=URI;X-ADDRESS=Oslo Dansens Hus Vulkan 1 Oslo;X-APPLE-RADIUS=500;X-TITLE=Vulkan 1:geo:10.7516425,59.9222531
END:VEVENT
BEGIN:VEVENT
DTSTART;TZID=Europe/Oslo:20200201T150000
DTEND;TZID=Europe/Oslo:20200201T161500
DTSTAMP:20260420T121829
CREATED:20200128T102718Z
LAST-MODIFIED:20210111T091311Z
UID:10005626-1580569200-1580573700@www.klimafestivalen112.no
SUMMARY:Think&talk | Brann som fenomen
DESCRIPTION:Bli med på en annerledes seminaropplevelse der vi deler ulike perspektiver omkring brann som fenomen. Møt regissøren Ina Christel Johannessen zero visibility corp. \, Torkjell Leira fra Klimahuset\, Truls Gulowsen fra Regnskogfondet\, og Christian Steel fra Sabima. \n\nBrann som fenomen er dramatisk\, ukontrollerbart og destruktivt – men branner kan også gi nytt liv. Branner rammer folk\, dyr og natur – og det vil prege framtiden til flere i en verden der klimaet blir varmere. Hvordan er det å være tilskuer til denne utviklingen? Hvordan kan vi tilpasse oss et endret klima? Kan vi gjøre noe for å redusere utslippene våre og påvirke endringene? \nSeminaret er en dialog der du som publikum får delta aktivt i en uformell og interessant samtale. Selv om temaet er alvorlig\, vil opplevelsen være inspirerende. \nPanelister:\nIna Christine Johannessen\, koreograf for forestillingen «When Monday Came» – zero visibility corp.\nTruls Gullowsen i Regnskogfondet jobber med Amazonas.\nChristian Steel fra Sabima \nFasilitatorer: Heidi Helgestad\, Kristin Selstrøm Moe og Maike Luimes. \nPanelsamtalen er gratis og holdes i forkant av forestillingen på Dansen Hus. Du finner biletter til forestillingen her: Ina Christel Johannessen / zvc. – When Monday Came \nEtter forestillingen er du hjertelig velkommen til å bli igjen på Klimafest på Dansens Hus – Klimafestivalen§112.
URL:https://www.klimafestivalen112.no/arrangement/thinktalk-brann-som-fenomen/
LOCATION:Oslo\, Dansens Hus\, Vulkan 1\, Oslo
ATTACH;FMTTYPE=image/jpeg:https://www.klimafestivalen112.no/wp-content/uploads/2020/01/Jorden-brenner.jpg
ORGANIZER;CN="Dansens Hus":MAILTO:erik@dansenshus.com
GEO:59.9222531;10.7516425
X-APPLE-STRUCTURED-LOCATION;VALUE=URI;X-ADDRESS=Oslo Dansens Hus Vulkan 1 Oslo;X-APPLE-RADIUS=500;X-TITLE=Vulkan 1:geo:10.7516425,59.9222531
END:VEVENT
BEGIN:VEVENT
DTSTART;TZID=Europe/Oslo:20200130T190000
DTEND;TZID=Europe/Oslo:20200202T200000
DTSTAMP:20260420T121829
CREATED:20191209T140520Z
LAST-MODIFIED:20200111T180531Z
UID:10005548-1580410800-1580673600@www.klimafestivalen112.no
SUMMARY:When Monday Came - Dansens Hus
DESCRIPTION:De siste årene har vi sett en enorm økning av skogbranner globalt; Både Amazonas og Afrika – jordens «lunger» – brenner. For ikke å glemme Australia og flere stater i USA. Hva innebærer disse altomslukende brannene for oss mennesker? Er brann ene og alene destruktivt\, eller kan det også bety endring og nye muligheter? \n \nHva er Monday? Bare en dag i begynnelsen av uka\, eller noe som representerer fremtiden? Det som er i vente? \nWhen Monday Came inngår i den anerkjente norske koreografen Ina Christel Johannessen og hennes kompani Zero Visibilitys pågående trilogi med globale klimaforandringer som tematisk omdreiningspunkt. \n \nForestillingen koster 150 / 300 kr
URL:https://www.klimafestivalen112.no/arrangement/when-monday-came-dansens-hus/
LOCATION:Oslo\, Dansens Hus\, Vulkan 1\, Oslo
CATEGORIES:Forestilling
GEO:59.9222531;10.7516425
X-APPLE-STRUCTURED-LOCATION;VALUE=URI;X-ADDRESS=Oslo Dansens Hus Vulkan 1 Oslo;X-APPLE-RADIUS=500;X-TITLE=Vulkan 1:geo:10.7516425,59.9222531
END:VEVENT
END:VCALENDAR