BEGIN:VCALENDAR
VERSION:2.0
PRODID:-//Klimafestivalen 112 - ECPv6.15.20//NONSGML v1.0//EN
CALSCALE:GREGORIAN
METHOD:PUBLISH
X-ORIGINAL-URL:https://www.klimafestivalen112.no
X-WR-CALDESC:Arrangement for Klimafestivalen 112
REFRESH-INTERVAL;VALUE=DURATION:PT1H
X-Robots-Tag:noindex
X-PUBLISHED-TTL:PT1H
BEGIN:VTIMEZONE
TZID:Europe/Oslo
BEGIN:DAYLIGHT
TZOFFSETFROM:+0100
TZOFFSETTO:+0200
TZNAME:CEST
DTSTART:20190331T010000
END:DAYLIGHT
BEGIN:STANDARD
TZOFFSETFROM:+0200
TZOFFSETTO:+0100
TZNAME:CET
DTSTART:20191027T010000
END:STANDARD
BEGIN:DAYLIGHT
TZOFFSETFROM:+0100
TZOFFSETTO:+0200
TZNAME:CEST
DTSTART:20200329T010000
END:DAYLIGHT
BEGIN:STANDARD
TZOFFSETFROM:+0200
TZOFFSETTO:+0100
TZNAME:CET
DTSTART:20201025T010000
END:STANDARD
BEGIN:DAYLIGHT
TZOFFSETFROM:+0100
TZOFFSETTO:+0200
TZNAME:CEST
DTSTART:20210328T010000
END:DAYLIGHT
BEGIN:STANDARD
TZOFFSETFROM:+0200
TZOFFSETTO:+0100
TZNAME:CET
DTSTART:20211031T010000
END:STANDARD
END:VTIMEZONE
BEGIN:VEVENT
DTSTART;TZID=Europe/Oslo:20200122T160000
DTEND;TZID=Europe/Oslo:20200122T200000
DTSTAMP:20260423T125131
CREATED:20200115T151145Z
LAST-MODIFIED:20200116T145713Z
UID:10006607-1579708800-1579723200@www.klimafestivalen112.no
SUMMARY:Urbefolkning - hva kan vi lære?
DESCRIPTION:Hva kan urfolk lære «oss andre» for å gjøre oss bedre rustet for å møte framtiden? Hva nå? Hvordan møte en framtid der vårt moderne nå-tids` forståelse av natur-menneske skal/bør justeres? \n \nHva skal til? Hva skal vi – bør vi – lære?\nHvordan stoppe de menneskeskapte ødeleggelser?\nHvilke steg kan vi ta sammen? Hva kan det bety å ha handlingskraft? Hva kan det bety om vi aller er ur-folk? \nEr det noe ur-norsk? Er det noe folkelig i sunn fornuft\, i menneske til menneske relajsoner? Hva kan vanlige folk gjøre? Klarer vi å komme forbi økosorg? Hva nå?!? Hvordan skal vi leve? Hvordan møter vi barn i denne nye virkelighet? \nDette arrangementet er et samarbeid mellom HL-Senteret\, Bykuben\, Klimafestivalen §112 og 360hub Global`s internasjonal nettverk. \nInspirasjonen er hentet fra et viktig søndagsforedrag på HL-Senteret høst 2019. Nå ønsker vi å løfte dette frem i en urban og global virkelighet.\nhttps://www.youtube.com/watch?v=r9Dx79pEwrk&feature=youtu.be \nRAMMER FOR ARRANGEMENT: \nGLOBAL CLIMATE CAFE:\nforelesning + arbeidsgrupper // lokalt + globalt\nVi prater sammen. Deler tanker. Tenker høyt. \nKjøreplan:\n16:00 – uformell check-inn med enkel servering av brødmat\n17:00 – 18:00 Introduksjons\, vi setter scenen med innlegg fra: \nArne Johan Vetlesen er professor i filosofi ved Universitetet i Oslo (UiO)\, der han arbeider med etikk og sosialfilosofi. Han ga nylig ut boken «Cosmologies of the Anthropocene» som blant annet undersøker hva urfolk-praksisen animisme kan brukes til i dag\, av storsamfunnet. \nMaria Guzman-Gallegos er førsteamanuensis ved VID vitenskapelige høgskole\, tidligere postdoc ved Sosialantropologisk institutt ved UiO. Guzman-Gallegos arbeider med økologisk antropologi. \nDisse blir holdt på engelsk\, og strømmet\, FB-live:\n– zoomcall i samarbeid med Conference Weaving\, NOW WHAT? 1? network of networks\, facilitated by Ben Roberts og Inger-Mette Stenseth\nhttps://kumu.io/ben-roberts/now-what#now-what-oct-nov-2019 \n18:00 – 19:30\nLokal arbeidsgrupper i samtaler.\nGlobalt arbeidsgrupper i samtaler\,\n– dynamisk samspill mellom Oslo og verden: om mulig så vil arbeidsgrupper via zoomcall bli tilrettelagt på engelsk\, portugisisk\, norsk – også andre språk om det er av interesse.\nInvitasjon til online deltagelser er invitasjon i eget arrangement. Her er link: \n19:30 – 20:00\n– avrunding og deling av informasjon \nArrangementet er gratis.\n……… \nLink til søndagsforedrag på HL-Senteret\, 13.oktober 2019:\nhttps://www.hlsenteret.no/aktuelt/arrangementer/2019/streaming/urfolks-natursyn—noe-a-lere-for-oss.html
URL:https://www.klimafestivalen112.no/arrangement/urbefolkning-hva-kan-vi-laere/
LOCATION:Bykuben – Oslos senter for byøkologi\, Myntgata 2\, Oslo
CATEGORIES:Seminar
END:VEVENT
END:VCALENDAR