BEGIN:VCALENDAR
VERSION:2.0
PRODID:-//Klimafestivalen 112 - ECPv6.15.20//NONSGML v1.0//EN
CALSCALE:GREGORIAN
METHOD:PUBLISH
X-ORIGINAL-URL:https://www.klimafestivalen112.no
X-WR-CALDESC:Arrangement for Klimafestivalen 112
REFRESH-INTERVAL;VALUE=DURATION:PT1H
X-Robots-Tag:noindex
X-PUBLISHED-TTL:PT1H
BEGIN:VTIMEZONE
TZID:Europe/Oslo
BEGIN:DAYLIGHT
TZOFFSETFROM:+0100
TZOFFSETTO:+0200
TZNAME:CEST
DTSTART:20190331T010000
END:DAYLIGHT
BEGIN:STANDARD
TZOFFSETFROM:+0200
TZOFFSETTO:+0100
TZNAME:CET
DTSTART:20191027T010000
END:STANDARD
BEGIN:DAYLIGHT
TZOFFSETFROM:+0100
TZOFFSETTO:+0200
TZNAME:CEST
DTSTART:20200329T010000
END:DAYLIGHT
BEGIN:STANDARD
TZOFFSETFROM:+0200
TZOFFSETTO:+0100
TZNAME:CET
DTSTART:20201025T010000
END:STANDARD
BEGIN:DAYLIGHT
TZOFFSETFROM:+0100
TZOFFSETTO:+0200
TZNAME:CEST
DTSTART:20210328T010000
END:DAYLIGHT
BEGIN:STANDARD
TZOFFSETFROM:+0200
TZOFFSETTO:+0100
TZNAME:CET
DTSTART:20211031T010000
END:STANDARD
END:VTIMEZONE
BEGIN:VEVENT
DTSTART;TZID=Europe/Oslo:20200115T120000
DTEND;TZID=Europe/Oslo:20200115T130000
DTSTAMP:20260421T153825
CREATED:20200114T201303Z
LAST-MODIFIED:20200114T201303Z
UID:10005547-1579089600-1579093200@www.klimafestivalen112.no
SUMMARY:Climate Struggles Through Law & Movies
DESCRIPTION:What happens when climate lawsuits do not achieve immediate results?  \n \nPhoto: Alessandro Belleli \nAre there other avenues whereby to catalyze emotions\, engagement\, and social movements? The Norwegian Climate Case\, concerning the Arctic\, was not a full-fledged victory—but directors in the Arctic may work in parallel for questioning its possible oil & gas industrial development. \nIn this lunch seminar\, Documentary Director and Social Anthropologist Alessandro Belleli takes us into a journey across snapshots of life in the Arctic. Starting from a personal reflection on being a father in a time of climate concerns\, the filmmaker engages into a journey with the camera in order to enhance a further dialogue about the future of the Arctic among its’ people\, portraying different lives and collecting their visions about the possible oil & gas industrialization of it. From Skarpeneset and Tromsø Havn in a possibly Post-Petroleum North\, through a singing voice of the environmental & climate activist\, to a sea & fisherman’s perspective\, continuing to Hammerfest and an oil worker’s side. \nEsmeralda Colombo (Faculty of Law\, UiB) will reflect on Alessandro’s presentation and open the debate with Frode Storaas (Department of Cultural History\, UiB) and the public. This event is part of Klimafestivalen § 112 – Bergen. \nAll welcome! Refreshments will be served. \nBorn in Trentino (Italy) in March 1983\, Alessandro Belleli is an arctic anthropologist\, photographer and filmmaker. He holds a bachelor in Economics with a specialization in Social Studies and International Cooperation at the University of Trento (2007)\, a Master in Cultural Anthropology at the University of Genoa (2011) and a Master in Visual Anthropology at the Arctic University of Norway (2015). As an anthropologist photographer and filmmaker\, he has been working in Denmark\, Western Greenland\, Brazil and Northern Norway. His works have been shown and published on the National Italian TV RAI\, the National Norwegian TV NRK & by the Italian Polar Institute.
URL:https://www.klimafestivalen112.no/arrangement/climate-struggles-through-law-movies/
LOCATION:Bergen Global CMI/UiB\, Jekteviksbakken 31\, Bergen\, 5006
END:VEVENT
END:VCALENDAR