BEGIN:VCALENDAR
VERSION:2.0
PRODID:-//Klimafestivalen 112 - ECPv6.15.20//NONSGML v1.0//EN
CALSCALE:GREGORIAN
METHOD:PUBLISH
X-WR-CALNAME:Klimafestivalen 112
X-ORIGINAL-URL:https://www.klimafestivalen112.no
X-WR-CALDESC:Arrangement for Klimafestivalen 112
REFRESH-INTERVAL;VALUE=DURATION:PT1H
X-Robots-Tag:noindex
X-PUBLISHED-TTL:PT1H
BEGIN:VTIMEZONE
TZID:Europe/Oslo
BEGIN:DAYLIGHT
TZOFFSETFROM:+0100
TZOFFSETTO:+0200
TZNAME:CEST
DTSTART:20190331T010000
END:DAYLIGHT
BEGIN:STANDARD
TZOFFSETFROM:+0200
TZOFFSETTO:+0100
TZNAME:CET
DTSTART:20191027T010000
END:STANDARD
BEGIN:DAYLIGHT
TZOFFSETFROM:+0100
TZOFFSETTO:+0200
TZNAME:CEST
DTSTART:20200329T010000
END:DAYLIGHT
BEGIN:STANDARD
TZOFFSETFROM:+0200
TZOFFSETTO:+0100
TZNAME:CET
DTSTART:20201025T010000
END:STANDARD
BEGIN:DAYLIGHT
TZOFFSETFROM:+0100
TZOFFSETTO:+0200
TZNAME:CEST
DTSTART:20210328T010000
END:DAYLIGHT
BEGIN:STANDARD
TZOFFSETFROM:+0200
TZOFFSETTO:+0100
TZNAME:CET
DTSTART:20211031T010000
END:STANDARD
END:VTIMEZONE
BEGIN:VEVENT
DTSTART;TZID=Europe/Oslo:20200123T080000
DTEND;TZID=Europe/Oslo:20200123T100000
DTSTAMP:20260420T151526
CREATED:20200105T191524Z
LAST-MODIFIED:20200111T142028Z
UID:10005584-1579766400-1579773600@www.klimafestivalen112.no
SUMMARY:Lansering av BehaviourLab
DESCRIPTION:GreeNudge and Pure CSR Consulting are proud to announce a new partnership for sustainable behaviour change\, and invite you to our official launch of BehaviourLab!\n\nWe would like to invite you to our breakfast meeting\, where we will discuss how behavioural insights\, specifically behavourial economics and nudging\, can contribute to sustainable development. We will present our new partnership project\, called BehaviourLab\, and invite you to join us in exploring how we can apply the latest science in behavioural economics to nudge consumers\, employees\, suppliers and others in your value chain towards more sustainable behaviour. \nDate: 23. januar 2020\, 8.00 – 10.00\nPlace: MESH\, Tordenskiolds gate 3\, Oslo\, Norway – 2. floor – The Lounge\nCost: Free (there may be no such thing as a free lunch\, but there is such a thing as a free breakfast!) \nAgenda\n8.00: Registration\, coffee and light breakfast\n8.30: Welcome and introduction by Stine Lise Hattestad Bratsberg (Pure CSR Consulting) and Samira Lekhal (GreeNudge)\nkl. 8.45: Harnessing behavioural insights for sustainable development\, by Helena Slapø (GreeNudge) and Marcus Borley (Pure CSR Consulting)\nkl. 9.15: External presenter – TBC\nkl. 9.50: Sum up\, with Marcus and Helena \nRegister on our webpage: https://www.behaviourlab.no/events \nDeadline for registrations: 17th January 2020. Please note that places are limited\, and on a first come\, first serve basis. Registrations are binding\, so please let us know immediately if you cannot make it so that someone else can take your place. \nWe look forward to seeing you there! \nPlease contact Linda Mathisen at: post@greenudge.no or on +47 92228679 if you have any questions about this event.
URL:https://www.klimafestivalen112.no/arrangement/lansering-av-behaviourlab/
LOCATION:Oslo\, MESH\, Tordenskiolds gate 3\, Oslo\, 0160\, Norge
GEO:59.9131976;10.7361057
X-APPLE-STRUCTURED-LOCATION;VALUE=URI;X-ADDRESS=Oslo MESH Tordenskiolds gate 3 Oslo 0160 Norge;X-APPLE-RADIUS=500;X-TITLE=Tordenskiolds gate 3:geo:10.7361057,59.9131976
END:VEVENT
END:VCALENDAR