BEGIN:VCALENDAR
VERSION:2.0
PRODID:-//Klimafestivalen 112 - ECPv6.15.20//NONSGML v1.0//EN
CALSCALE:GREGORIAN
METHOD:PUBLISH
X-WR-CALNAME:Klimafestivalen 112
X-ORIGINAL-URL:https://www.klimafestivalen112.no
X-WR-CALDESC:Arrangement for Klimafestivalen 112
REFRESH-INTERVAL;VALUE=DURATION:PT1H
X-Robots-Tag:noindex
X-PUBLISHED-TTL:PT1H
BEGIN:VTIMEZONE
TZID:Europe/Oslo
BEGIN:DAYLIGHT
TZOFFSETFROM:+0100
TZOFFSETTO:+0200
TZNAME:CEST
DTSTART:20190331T010000
END:DAYLIGHT
BEGIN:STANDARD
TZOFFSETFROM:+0200
TZOFFSETTO:+0100
TZNAME:CET
DTSTART:20191027T010000
END:STANDARD
BEGIN:DAYLIGHT
TZOFFSETFROM:+0100
TZOFFSETTO:+0200
TZNAME:CEST
DTSTART:20200329T010000
END:DAYLIGHT
BEGIN:STANDARD
TZOFFSETFROM:+0200
TZOFFSETTO:+0100
TZNAME:CET
DTSTART:20201025T010000
END:STANDARD
BEGIN:DAYLIGHT
TZOFFSETFROM:+0100
TZOFFSETTO:+0200
TZNAME:CEST
DTSTART:20210328T010000
END:DAYLIGHT
BEGIN:STANDARD
TZOFFSETFROM:+0200
TZOFFSETTO:+0100
TZNAME:CET
DTSTART:20211031T010000
END:STANDARD
END:VTIMEZONE
BEGIN:VEVENT
DTSTART;TZID=Europe/Oslo:20200127T180000
DTEND;TZID=Europe/Oslo:20200127T210000
DTSTAMP:20260423T215733
CREATED:20200124T142523Z
LAST-MODIFIED:20200124T142523Z
UID:10007710-1580148000-1580158800@www.klimafestivalen112.no
SUMMARY:Kokkelering med norsk plantekost
DESCRIPTION:Hva er det sunneste\, beste og mest bærekraftige vi i Norge kan spise? Jepp – norsk plantekost. \n \nMen de fleste av oss spiser for lite kål\, gulrot\, pastinakk\, bygg\, squash osv.\, og vet ikke at man kan lage fantastisk smakfull supermat av dette. Nå får du sjansen til å teste og smake. Benedicte Brun\, Martha Brekke og Anna Milford til matkveld på Lystgården\, hvor vi sammen lager og spiser enkle\, men smakfulle middager med norsk plantekost. Her kan du både lære noe nytt og bli inspirert til å lage slik mat hjemme. Passer for både erfarne og uerfarne plantekostkokker\, med aldersgrense 12 år. Du behøver ingen forkunnskaper. \nSjekk blogg med oppskrifter fra tidligere kokkeleringskvelder her: https://norskplantekost.org/ \nBENEDICTE BRUN er utdannet i miljø og naturressurser fra NMBU og arbeider med skoghager og bærekraftig landbruk og utvikling. \nMARTHA BREKKE er en matblogger/matentusiast som elsker å trylle fram freshe og fargerike plantebaserte retter på kjøkkenet \nANNA MILFORD er forsker på landbruksøkonomi\, med fokus på frukt- og grøntproduksjon og bærekraftig kosthold. \nVi har en fleksibel prismodell fordi vi ønsker at alle skal kunne ha anledning til å være med\, uansett økonomisk situasjon. Meld deg på i egen billettlenke over.
URL:https://www.klimafestivalen112.no/arrangement/kokkelering-med-norsk-plantekost/
LOCATION:Lystgården\, Kanonhaugen 39\, Bergen\, 5096\, Norge
GEO:60.3639142;5.3734927
X-APPLE-STRUCTURED-LOCATION;VALUE=URI;X-ADDRESS=Lystgården Kanonhaugen 39 Bergen 5096 Norge;X-APPLE-RADIUS=500;X-TITLE=Kanonhaugen 39:geo:5.3734927,60.3639142
END:VEVENT
BEGIN:VEVENT
DTSTART;TZID=Europe/Oslo:20200119T093000
DTEND;TZID=Europe/Oslo:20200119T180000
DTSTAMP:20260423T215733
CREATED:20200108T205400Z
LAST-MODIFIED:20200111T142638Z
UID:10005592-1579426200-1579456800@www.klimafestivalen112.no
SUMMARY:Would you like some TEA? "Toolbox for Environmental Action"
DESCRIPTION:WOULD YOU LIKE SOME TEA? \nKlimafestivalen § 112 – Bergen welcomes you to a 3-day workshop to share and develop your Toolbox for Environmental Action (TEA). \n\nLocation: Impact Hub Bergen\nDates: 17th – 19th January 2020\nTime: 9:30 – 18:00 everyday \nWhether you are a concerned citizen or an engaged activist\, \nWhether you are a young student or have a few years of work experience behind you\, \nWhether you are Norwegian or an expatriate\, \nThis workshop is for YOU! \nDuring this weekend\, you will have a chance to meet like-minded impact seekers and find out what MORE you can do from an individual level to an organizational and societal level. \nThis workshop will be lead by three International Certified Trainers who have solid experience with social change processes and with management of organizations:\n– Alexander Vaniev (Russia)\n– Pablo Laboreo (Spain)\n– Soukaina Legdani (France) \nA detailed schedule will be published shortly.\nThe 21 hours workshop will include:\n– 15 hours of trainings\n– 6 hours of practice & reflection \n* Price: Free\n** Language: English\n*** Free lunch will be provided for participants who sign-up for a full day. \nWe accept a maximum of 25 participants per session. Please note that the number of participants showed on Facebook does not necessarily match with the actual number of participants\, and that there might be only few places left in the workshop. \nThe sign-up form will published together with the schedule\, so stay tuned\, and join us for some TEA! 🍵
URL:https://www.klimafestivalen112.no/arrangement/would-you-like-some-tea-toolbox-for-environmental-action/2020-01-19/
LOCATION:Impact HUB Bergen\, Holmedalsgården 3\, Bergen
END:VEVENT
BEGIN:VEVENT
DTSTART;TZID=Europe/Oslo:20200118T093000
DTEND;TZID=Europe/Oslo:20200118T180000
DTSTAMP:20260423T215733
CREATED:20200108T205400Z
LAST-MODIFIED:20200111T142638Z
UID:10005591-1579339800-1579370400@www.klimafestivalen112.no
SUMMARY:Would you like some TEA? "Toolbox for Environmental Action"
DESCRIPTION:WOULD YOU LIKE SOME TEA? \nKlimafestivalen § 112 – Bergen welcomes you to a 3-day workshop to share and develop your Toolbox for Environmental Action (TEA). \n\nLocation: Impact Hub Bergen\nDates: 17th – 19th January 2020\nTime: 9:30 – 18:00 everyday \nWhether you are a concerned citizen or an engaged activist\, \nWhether you are a young student or have a few years of work experience behind you\, \nWhether you are Norwegian or an expatriate\, \nThis workshop is for YOU! \nDuring this weekend\, you will have a chance to meet like-minded impact seekers and find out what MORE you can do from an individual level to an organizational and societal level. \nThis workshop will be lead by three International Certified Trainers who have solid experience with social change processes and with management of organizations:\n– Alexander Vaniev (Russia)\n– Pablo Laboreo (Spain)\n– Soukaina Legdani (France) \nA detailed schedule will be published shortly.\nThe 21 hours workshop will include:\n– 15 hours of trainings\n– 6 hours of practice & reflection \n* Price: Free\n** Language: English\n*** Free lunch will be provided for participants who sign-up for a full day. \nWe accept a maximum of 25 participants per session. Please note that the number of participants showed on Facebook does not necessarily match with the actual number of participants\, and that there might be only few places left in the workshop. \nThe sign-up form will published together with the schedule\, so stay tuned\, and join us for some TEA! 🍵
URL:https://www.klimafestivalen112.no/arrangement/would-you-like-some-tea-toolbox-for-environmental-action/2020-01-18/
LOCATION:Impact HUB Bergen\, Holmedalsgården 3\, Bergen
END:VEVENT
BEGIN:VEVENT
DTSTART;TZID=Europe/Oslo:20200117T093000
DTEND;TZID=Europe/Oslo:20200117T180000
DTSTAMP:20260423T215733
CREATED:20200108T205400Z
LAST-MODIFIED:20200111T142638Z
UID:10005590-1579253400-1579284000@www.klimafestivalen112.no
SUMMARY:Would you like some TEA? "Toolbox for Environmental Action"
DESCRIPTION:WOULD YOU LIKE SOME TEA? \nKlimafestivalen § 112 – Bergen welcomes you to a 3-day workshop to share and develop your Toolbox for Environmental Action (TEA). \n\nLocation: Impact Hub Bergen\nDates: 17th – 19th January 2020\nTime: 9:30 – 18:00 everyday \nWhether you are a concerned citizen or an engaged activist\, \nWhether you are a young student or have a few years of work experience behind you\, \nWhether you are Norwegian or an expatriate\, \nThis workshop is for YOU! \nDuring this weekend\, you will have a chance to meet like-minded impact seekers and find out what MORE you can do from an individual level to an organizational and societal level. \nThis workshop will be lead by three International Certified Trainers who have solid experience with social change processes and with management of organizations:\n– Alexander Vaniev (Russia)\n– Pablo Laboreo (Spain)\n– Soukaina Legdani (France) \nA detailed schedule will be published shortly.\nThe 21 hours workshop will include:\n– 15 hours of trainings\n– 6 hours of practice & reflection \n* Price: Free\n** Language: English\n*** Free lunch will be provided for participants who sign-up for a full day. \nWe accept a maximum of 25 participants per session. Please note that the number of participants showed on Facebook does not necessarily match with the actual number of participants\, and that there might be only few places left in the workshop. \nThe sign-up form will published together with the schedule\, so stay tuned\, and join us for some TEA! 🍵
URL:https://www.klimafestivalen112.no/arrangement/would-you-like-some-tea-toolbox-for-environmental-action/2020-01-17/
LOCATION:Impact HUB Bergen\, Holmedalsgården 3\, Bergen
END:VEVENT
BEGIN:VEVENT
DTSTART;TZID=Europe/Oslo:20200116T190000
DTEND;TZID=Europe/Oslo:20200116T223000
DTSTAMP:20260423T215734
CREATED:20200114T204948Z
LAST-MODIFIED:20200114T204948Z
UID:10006592-1579201200-1579213800@www.klimafestivalen112.no
SUMMARY:Grønt Matkurs
DESCRIPTION:Vi skal ta dere med inn i vår verden av matopplevelser!\n\nVi spesialiserer oss på kreativ matlaging\, med gode smakskombinasjoner i fokus og med rom for å eksperimentere. På kurset skal vi lage mat både med og uten å følge en fast oppskrift\, vi skal eksperimentere med krydderier\, smaker og råvarer og lage en smakfull og plantebasert treretters (minst!) sammen. Det hele ender i et sosialt måltid rundt langbordet i finstuen. Du er velkommen alene eller sammen med venner. Målet er at du skal få kunnskap og inspirasjon som gjør det lettere å lage plantebasert mat hjemme hos deg selv. \nPRIS: 400 kr inkl 1 glass eplemost\, matkurs og måltid.\nVi har en fleksibel prismodell fordi vi ønsker at alle skal kunne ha anledning til å være med\, uansett økonomisk situasjon. Vi foreslår 400 kr. Men du kan også velge mindre. Og har du lyst til å klinke til med en større donasjon er det bare å endre tallet til et høyere : ) Du er uansett velkommen til en framtidslysten kveld i Lystgården \nDet er plass til 16 stk på kurset. \nOM SMAKSVERKSTEDET\nSmaksverkstedet arrangerer matglade kurs og aktiviteter med næringsrik og bærekraftig mat. På Smaksverkstedet kan man eksperimentere med gode smaker og råvarer\, og oppleve matglede i fellesskap. Vanligvis holder vi kurs for barn og barnefamilier men denne dagen klinker vi til med et kurs kun for voksne. Prosjektet er utviklet av en sosiale entreprenøren Folkelig. \nOM LYSTGÅRDEN /OM PROSJEKTET\nLystgården er en allmenning for FNs bærekraftsmål\, der hjertet av virksomheten handler om mat\, kultur og samfunnsendring. Lystgården er startet av Bærekraftige liv på Landås og holder til i et fredet lyststed på Landås. \nVelkommen til en matglad kveld på Lystgården.
URL:https://www.klimafestivalen112.no/arrangement/gront-matkurs/
LOCATION:Lystgården\, Kanonhaugen 39\, Bergen\, 5096\, Norge
GEO:60.3639142;5.3734927
X-APPLE-STRUCTURED-LOCATION;VALUE=URI;X-ADDRESS=Lystgården Kanonhaugen 39 Bergen 5096 Norge;X-APPLE-RADIUS=500;X-TITLE=Kanonhaugen 39:geo:5.3734927,60.3639142
END:VEVENT
BEGIN:VEVENT
DTSTART;TZID=Europe/Oslo:20200114T193000
DTEND;TZID=Europe/Oslo:20200114T213000
DTSTAMP:20260423T215734
CREATED:20200111T232456Z
LAST-MODIFIED:20200111T232456Z
UID:10005635-1579030200-1579037400@www.klimafestivalen112.no
SUMMARY:BIO: pop-up kino «The biggest little farm»
DESCRIPTION:Blant de mange dokumentarene som de siste årene har vært laget om landbruk og matproduksjon\, er THE BIGGEST LITTLE FARM et friskt pust med fokus på muligheter og løsninger.  \n \nNår filmskaper John Chester og konen Molly får en utkastelsesordre fra sin lille leilighet i Santa Monica\, blir de tvunget til å velge mellom å kvitte seg med den bjeffende hunden Todd eller flytte ut av byen. Ekteparet kjøper seg 80 hektar land for å oppfylle drømmen om å etablere en økologisk gård som drives i pakt med naturen. Det viser seg å være enklere sagt enn gjort\, men med hjelp av nestor Alan York lærer de om jordbruk og biologisk mangfold. \nProblemene på gården dukker opp ett etter ett\, men naturen har en løsning for det meste så lenge man legger til rette for at den skal kunne utfolde seg. (Tekst fra presentasjon av filmen i BIFF programmet 2019) \nThe biggest little farm setter viktige spørsmål rundt dagens landbruk på agenda. En viktig film enten du dyrker mat – eller spiser den. \nDet vil bli åpen bar og salg av popcorn – selvfølgelig. Velkommen!\nKjøp billett i lenken. \nArrangementet er støttet av Bergen kommune gjennom klimamidler.
URL:https://www.klimafestivalen112.no/arrangement/bio-pop-up-kino-the-biggest-little-farm/
LOCATION:Lystgården\, Kanonhaugen 39\, Bergen\, 5096\, Norge
GEO:60.3639142;5.3734927
X-APPLE-STRUCTURED-LOCATION;VALUE=URI;X-ADDRESS=Lystgården Kanonhaugen 39 Bergen 5096 Norge;X-APPLE-RADIUS=500;X-TITLE=Kanonhaugen 39:geo:5.3734927,60.3639142
END:VEVENT
END:VCALENDAR